BEGIN:VCALENDAR
VERSION:2.0
PRODID:-//ChamberMaster//Event Calendar 2.0//EN
METHOD:PUBLISH
X-PUBLISHED-TTL:P3D
REFRESH-INTERVAL:P3D
CALSCALE:GREGORIAN
BEGIN:VEVENT
DTSTART;VALUE=DATE:20250927
DTEND;VALUE=DATE:20250928
TRANSP:TRANSPARENT
X-MICROSOFT-CDO-ALLDAYEVENT:TRUE
SUMMARY:13th Annual Texas Oncology Breast Cancer Awareness 5K Run/Walk
DESCRIPTION:Hello\, everyone! Texas Oncology cordially invites you and yours to participate in our 13th Annual Breast Cancer Awareness 5K and 2.5 Mile Walk! Join us and help us raise much needed funds for the Texas Oncology Foundation and other local charities! \n\n\n\nEVENT DETAILS:\n\n1. Chip Timed and Age Group Awards (5K Only).\n\n-All 5K participants must abide by all traffic laws.\n\nAge Groups: 1-14\, 15-19\, 20-29\, 30-39\, 40-49\, 50-59\, 60-64\, 65+\n\n\n\n2. 2.5 Mile Walk\n\n-All 2.5 mile walk participants must abide by all traffic laws.\n\n\n\nPARTICIPANT T-SHIRT INCLUDED FOR THE FIRST 1\,000 PARTICIPANTS. SIZE GUARANTEED IF REGISTERED BY 6:00PM FRIDAY 8-15-2025. \n\n\n\nPACKET PICK UP INFORMATION:\n\nFriday\, September 26th\, 2025 - 12:00PM-6:30PM\n\n\n\nDoubleTree Suites by Hilton Hotel - McAllen\n\n1800 S. 2nd Street\n\n\n\nLike this page and invite your friends on Facebook.\n\nJoin this event and invite your friends on Facebook.
X-ALT-DESC;FMTTYPE=text/html:<span style="font-size:12px\;"><span style="font-family:arial\;"><span style="color: rgb(85\, 85\, 85)\;">Hello\, everyone! Texas Oncology cordially invites you and yours to participate in our 13th Annual Breast Cancer Awareness 5K and 2.5 Mile Walk! Join us and help us raise much needed funds for the Texas Oncology Foundation and other local charities!&nbsp\;</span><br style="box-sizing: border-box\; color: rgb(85\, 85\, 85)\; font-family: Roboto\, &quot\;Helvetica Neue&quot\;\, Helvetica\, sans-serif\; font-size: 17.6px\;" />\n<br style="box-sizing: border-box\; color: rgb(85\, 85\, 85)\; font-family: Roboto\, &quot\;Helvetica Neue&quot\;\, Helvetica\, sans-serif\; font-size: 17.6px\;" />\n<span style="color: rgb(85\, 85\, 85)\;">EVENT DETAILS:</span><br style="box-sizing: border-box\; color: rgb(85\, 85\, 85)\; font-family: Roboto\, &quot\;Helvetica Neue&quot\;\, Helvetica\, sans-serif\; font-size: 17.6px\;" />\n<span style="color: rgb(85\, 85\, 85)\;">1. Chip Timed and Age Group Awards (5K Only).</span><br style="box-sizing: border-box\; color: rgb(85\, 85\, 85)\; font-family: Roboto\, &quot\;Helvetica Neue&quot\;\, Helvetica\, sans-serif\; font-size: 17.6px\;" />\n<span style="color: rgb(85\, 85\, 85)\;">-All 5K participants must abide by all traffic laws.</span><br style="box-sizing: border-box\; color: rgb(85\, 85\, 85)\; font-family: Roboto\, &quot\;Helvetica Neue&quot\;\, Helvetica\, sans-serif\; font-size: 17.6px\;" />\n<span style="color: rgb(85\, 85\, 85)\;">Age Groups: 1-14\, 15-19\, 20-29\, 30-39\, 40-49\, 50-59\, 60-64\, 65+</span><br style="box-sizing: border-box\; color: rgb(85\, 85\, 85)\; font-family: Roboto\, &quot\;Helvetica Neue&quot\;\, Helvetica\, sans-serif\; font-size: 17.6px\;" />\n<br style="box-sizing: border-box\; color: rgb(85\, 85\, 85)\; font-family: Roboto\, &quot\;Helvetica Neue&quot\;\, Helvetica\, sans-serif\; font-size: 17.6px\;" />\n<span style="color: rgb(85\, 85\, 85)\;">2. 2.5 Mile Walk</span><br style="box-sizing: border-box\; color: rgb(85\, 85\, 85)\; font-family: Roboto\, &quot\;Helvetica Neue&quot\;\, Helvetica\, sans-serif\; font-size: 17.6px\;" />\n<span style="color: rgb(85\, 85\, 85)\;">-All 2.5 mile walk participants must abide by all traffic laws.</span><br style="box-sizing: border-box\; color: rgb(85\, 85\, 85)\; font-family: Roboto\, &quot\;Helvetica Neue&quot\;\, Helvetica\, sans-serif\; font-size: 17.6px\;" />\n<br style="box-sizing: border-box\; color: rgb(85\, 85\, 85)\; font-family: Roboto\, &quot\;Helvetica Neue&quot\;\, Helvetica\, sans-serif\; font-size: 17.6px\;" />\n<span style="color: rgb(85\, 85\, 85)\;">PARTICIPANT T-SHIRT INCLUDED FOR THE FIRST 1\,000 PARTICIPANTS. SIZE GUARANTEED IF REGISTERED BY 6:00PM FRIDAY 8-15-2025.&nbsp\;</span><br style="box-sizing: border-box\; color: rgb(85\, 85\, 85)\; font-family: Roboto\, &quot\;Helvetica Neue&quot\;\, Helvetica\, sans-serif\; font-size: 17.6px\;" />\n<br style="box-sizing: border-box\; color: rgb(85\, 85\, 85)\; font-family: Roboto\, &quot\;Helvetica Neue&quot\;\, Helvetica\, sans-serif\; font-size: 17.6px\;" />\n<span style="color: rgb(85\, 85\, 85)\;">PACKET PICK UP INFORMATION:</span><br style="box-sizing: border-box\; color: rgb(85\, 85\, 85)\; font-family: Roboto\, &quot\;Helvetica Neue&quot\;\, Helvetica\, sans-serif\; font-size: 17.6px\;" />\n<span style="color: rgb(85\, 85\, 85)\;">Friday\, September 26th\, 2025 - 12:00PM-6:30PM</span><br style="box-sizing: border-box\; color: rgb(85\, 85\, 85)\; font-family: Roboto\, &quot\;Helvetica Neue&quot\;\, Helvetica\, sans-serif\; font-size: 17.6px\;" />\n<br style="box-sizing: border-box\; color: rgb(85\, 85\, 85)\; font-family: Roboto\, &quot\;Helvetica Neue&quot\;\, Helvetica\, sans-serif\; font-size: 17.6px\;" />\n<span style="color: rgb(85\, 85\, 85)\;">DoubleTree Suites by Hilton Hotel - McAllen</span><br style="box-sizing: border-box\; color: rgb(85\, 85\, 85)\; font-family: Roboto\, &quot\;Helvetica Neue&quot\;\, Helvetica\, sans-serif\; font-size: 17.6px\;" />\n<span style="color: rgb(85\, 85\, 85)\;">1800 S. 2nd Street<br />\n<br />\nLike this page and invite your friends on&nbsp\;</span><a href="http://www.facebook.com/661010216935880" rel="noopener noreferrer" style="box-sizing: border-box\; color: rgb(56\, 126\, 153)\; font-family: Roboto\, &quot\;Helvetica Neue&quot\;\, Helvetica\, sans-serif\; font-size: 17.6px\;" target="_blank">Facebook</a><span style="color: rgb(85\, 85\, 85)\;">.</span><br style="box-sizing: border-box\; color: rgb(85\, 85\, 85)\; font-family: Roboto\, &quot\;Helvetica Neue&quot\;\, Helvetica\, sans-serif\; font-size: 17.6px\;" />\n<span style="color: rgb(85\, 85\, 85)\;">Join this event and invite your friends on&nbsp\;</span><a href="http://www.facebook.com/events/661010216935880/" rel="noopener noreferrer" style="box-sizing: border-box\; color: rgb(56\, 126\, 153)\; font-family: Roboto\, &quot\;Helvetica Neue&quot\;\, Helvetica\, sans-serif\; font-size: 17.6px\;" target="_blank">Facebook</a><span style="color: rgb(85\, 85\, 85)\;">.</span></span></span>
LOCATION:
UID:e.3411.1049
SEQUENCE:3
DTSTAMP:20260422T094151Z
URL:https://members.rgvhcc.org/events/details/13th-annual-texas-oncology-breast-cancer-awareness-5k-run-walk-1049
END:VEVENT

END:VCALENDAR
