BEGIN:VCALENDAR
VERSION:2.0
PRODID:-//ChamberMaster//Event Calendar 2.0//EN
METHOD:PUBLISH
X-PUBLISHED-TTL:P3D
REFRESH-INTERVAL:P3D
CALSCALE:GREGORIAN
BEGIN:VEVENT
DTSTART:20240115T160000Z
DTEND:20240115T180000Z
X-MICROSOFT-CDO-ALLDAYEVENT:FALSE
SUMMARY:30th Annual MLK Grande Parade
DESCRIPTION:The MLK Grande Parade-2024 will be held in Midtown Houston on January 15\, 2024 originating on San Jacinto Street & Elgin Street beginning @ 10A (CST). Watch live on the CW or to learn more visit us @ www.mlkgrandeparade.org
X-ALT-DESC;FMTTYPE=text/html:The MLK Grande Parade-2024 will be held in Midtown Houston on January 15\, 2024 originating on San Jacinto Street &amp\; Elgin Street beginning @ 10A (CST). Watch live on the CW or to learn more visit us @ www.mlkgrandeparade.org
LOCATION:Midtown Houston-1200 Holman Street (San Jacinto Street & Elgin Street-Houston\, TX 77004
UID:e.3411.613
SEQUENCE:3
DTSTAMP:20260424T092621Z
URL:https://members.rgvhcc.org/events/details/30th-annual-mlk-grande-parade-613
END:VEVENT

END:VCALENDAR
