BEGIN:VCALENDAR
VERSION:2.0
PRODID:-//ChamberMaster//Event Calendar 2.0//EN
METHOD:PUBLISH
X-PUBLISHED-TTL:P3D
REFRESH-INTERVAL:P3D
CALSCALE:GREGORIAN
BEGIN:VEVENT
DTSTART;VALUE=DATE:20250827
DTEND;VALUE=DATE:20250829
TRANSP:TRANSPARENT
X-MICROSOFT-CDO-ALLDAYEVENT:TRUE
SUMMARY:8th Annual South Texas Adolescent Health Summit
DESCRIPTION:Join us for our 8th Annual South Texas Adolescent Health Summit on Aug. 27-28 in Mission\, Texas. It's an incredible opportunity to connect with other professionals who are passionate about supporting youth and the content is both highly educational and immediately applicable to your work. Plus\, the registration fee of $75 is very affordable\, especially for the quality of training and networking it offers.
X-ALT-DESC;FMTTYPE=text/html:Join us for our 8th Annual South Texas Adolescent Health Summit on Aug. 27-28 in Mission\, Texas. It&rsquo\;s an incredible opportunity to connect with other professionals who are passionate about supporting youth&mdash\;and the content is both highly educational and immediately applicable to your work. Plus\, the registration fee of $75 is very affordable\, especially for the quality of training and networking it offers.
LOCATION:Mission Event Center 200 N Shary Rd\, Mission\, TX 78572
UID:e.3411.1015
SEQUENCE:3
DTSTAMP:20260422T112849Z
URL:https://members.rgvhcc.org/events/details/8th-annual-south-texas-adolescent-health-summit-1015
END:VEVENT

END:VCALENDAR
