BEGIN:VCALENDAR
VERSION:2.0
PRODID:-//ChamberMaster//Event Calendar 2.0//EN
METHOD:PUBLISH
X-PUBLISHED-TTL:P3D
REFRESH-INTERVAL:P3D
CALSCALE:GREGORIAN
BEGIN:VEVENT
DTSTART:20251121T233000Z
DTEND:20251122T010000Z
X-MICROSOFT-CDO-ALLDAYEVENT:FALSE
SUMMARY:A Free Community Event - Self-Care Inside Out
DESCRIPTION:A free community event on mental health\, financial\, and nutritional wellness. Self-care Inside Out. Take a moment to invest in you. Join us for an empowering and informative event focused on self-care in every area of your life - mind money and body.
X-ALT-DESC;FMTTYPE=text/html:<span style="font-size:14px\;"><span style="font-family:arial\;">A free community event on mental health\, financial\, and nutritional wellness. Self-care Inside Out. Take a moment to invest in you. Join us for an empowering and informative event focused on self-care in every area of your life - mind money and body.</span></span>
LOCATION:
UID:e.3411.1094
SEQUENCE:3
DTSTAMP:20260422T075652Z
URL:https://members.rgvhcc.org/events/details/a-free-community-event-self-care-inside-out-1094
END:VEVENT

END:VCALENDAR
