BEGIN:VCALENDAR
VERSION:2.0
PRODID:-//ChamberMaster//Event Calendar 2.0//EN
METHOD:PUBLISH
X-PUBLISHED-TTL:P3D
REFRESH-INTERVAL:P3D
CALSCALE:GREGORIAN
BEGIN:VEVENT
DTSTART:20260514T150000Z
DTEND:20260514T190000Z
X-MICROSOFT-CDO-ALLDAYEVENT:FALSE
SUMMARY:AI THAT WORKS - A Masterclass for RGV Businesses
DESCRIPTION:Join us for an engaging and practical workshop focused on how artificial intelligence can drive real revenue for your business. This session cuts through the hype and delivers live demonstrations\, actionable insights\, and a clear framework to help you identify and recover missed revenue opportunities using AI.\n\nPresented by Evermore Digital in partnership with the RGV Women's Chamber of Commerce and facilitated by Cassandra Aguillon\, this workshop is designed for business owners and professionals looking to implement AI strategies with immediate impact.\n\nDon't miss this opportunity to learn\, connect\, and walk away with tools you can start using right away.
X-ALT-DESC;FMTTYPE=text/html:<p data-end="393" data-start="82">Join us for an engaging and practical workshop focused on how artificial intelligence can drive real revenue for your business. This session cuts through the hype and delivers live demonstrations\, actionable insights\, and a clear framework to help you identify and recover missed revenue opportunities using AI.</p>\n\n<p data-end="641" data-start="395">Presented by Evermore Digital in partnership with the RGV Women&rsquo\;s Chamber of Commerce and facilitated by Cassandra Aguillon\, this workshop is designed for business owners and professionals looking to implement AI strategies with immediate impact.</p>\n\n<p data-end="746" data-start="643">Don&rsquo\;t miss this opportunity to learn\, connect\, and walk away with tools you can start using right away.</p>\n
LOCATION:McAllen Public Library Auditorium - May 14th - 10AM- 2PM
UID:e.3411.1174
SEQUENCE:3
DTSTAMP:20260423T213123Z
URL:https://members.rgvhcc.org/events/details/ai-that-works-a-masterclass-for-rgv-businesses-1174
END:VEVENT

END:VCALENDAR
