BEGIN:VCALENDAR
VERSION:2.0
PRODID:-//ChamberMaster//Event Calendar 2.0//EN
METHOD:PUBLISH
X-PUBLISHED-TTL:P3D
REFRESH-INTERVAL:P3D
CALSCALE:GREGORIAN
BEGIN:VEVENT
DTSTART:20251211T170000Z
DTEND:20251211T183000Z
X-MICROSOFT-CDO-ALLDAYEVENT:FALSE
SUMMARY:Anniversary Celebration - South Texas Health System McAllen ??
DESCRIPTION:For 40 years\, South Texas Health System McAllen has been at the heart of healthcare in the Rio Grande Valley at its current location off the expressway in McAllen.\n\n\n\nFrom performing groundbreaking procedures to achieving national recognition\, the hospital's journey in its new multi-story facility reflects the region's growth and STHS' deep commitment to providing comprehensive\, advanced and close-to-home compassionate care.\n\n\n\nAs we mark four decades of caring for generations\, STHS McAllen invites you to the facility's 40th anniversary celebration.\n\n\n\nDuring this milestone event\, join us in looking back on 40 years of exceptional care at our current location and learn more about our continued efforts to expand healthcare services in the Rio Grande Valley.
X-ALT-DESC;FMTTYPE=text/html:<span style="font-size:14px\;"><span style="font-family:arial\;">For 40 years\, South Texas Health System McAllen has been at the heart of healthcare in the Rio Grande Valley at its current location off the expressway in McAllen.<br />\n<br />\nFrom performing groundbreaking procedures to achieving national recognition\, the hospital&rsquo\;s journey in its new multi-story facility reflects the region&rsquo\;s growth and STHS&rsquo\; deep commitment to providing comprehensive\, advanced and close-to-home compassionate care.<br />\n<br />\nAs we mark four decades of caring for generations\, STHS McAllen invites you to the facility&rsquo\;s 40th anniversary celebration.<br />\n<br />\nDuring this milestone event\, join us in looking back on 40 years of exceptional care at our current location and learn more about our continued efforts to expand healthcare services in the Rio Grande Valley.</span></span>
LOCATION:
UID:e.3411.1093
SEQUENCE:3
DTSTAMP:20260422T050133Z
URL:https://members.rgvhcc.org/events/details/anniversary-celebration-south-texas-health-system-mcallen-1093
END:VEVENT

END:VCALENDAR
