BEGIN:VCALENDAR
VERSION:2.0
PRODID:-//ChamberMaster//Event Calendar 2.0//EN
METHOD:PUBLISH
X-PUBLISHED-TTL:P3D
REFRESH-INTERVAL:P3D
CALSCALE:GREGORIAN
BEGIN:VEVENT
DTSTART:20251211T170000Z
DTEND:20251211T183000Z
X-MICROSOFT-CDO-ALLDAYEVENT:FALSE
SUMMARY:Anniversary Celebration - South Texas Health System (McAllen)
DESCRIPTION:The Rio Grande Valley Hispanic Chamber of Commerce is honored to spotlight South Texas Health System McAllen as they celebrate a remarkable milestone   40 years of service at their current McAllen location. I'm\n\n\n\nWe invite you to join us in commemorating four decades of groundbreaking medical care\, innovation\, and compassionate service that have shaped healthcare in the Rio Grande Valley.\n\n\n\nFor 40 years\, STHS McAllen has stood at the heart of our community performing pioneering procedures\, earning national recognition\, and continually expanding to meet the region's growing healthcare needs. Their multi-story facility has become a cornerstone of advanced\, close-to-home care for families across South Texas.\n\n\n\nDuring this milestone celebration\, we'll reflect on the hospital's incredible journey\, honor the generations of patients and professionals who've been part of it\, and learn more about STHS McAllen's ongoing commitment to expanding healthcare services throughout the Rio Grande Valley.\n\n\n\nJoin us as we celebrate 40 years of progress\, compassion\, and community impact. Let's recognize the legacy and future of one of our region's most trusted healthcare institutions.
X-ALT-DESC;FMTTYPE=text/html:<span style="font-size:14px\;"><span style="font-family:arial\;">The Rio Grande Valley Hispanic Chamber of Commerce is honored to spotlight South Texas Health System McAllen as they celebrate a remarkable milestone &mdash\; 40 years of service at their current McAllen location. I&rsquo\;m<br />\n<br />\nWe invite you to join us in commemorating four decades of groundbreaking medical care\, innovation\, and compassionate service that have shaped healthcare in the Rio Grande Valley.<br />\n<br />\nFor 40 years\, STHS McAllen has stood at the heart of our community&mdash\;performing pioneering procedures\, earning national recognition\, and continually expanding to meet the region&rsquo\;s growing healthcare needs. Their multi-story facility has become a cornerstone of advanced\, close-to-home care for families across South Texas.<br />\n<br />\nDuring this milestone celebration\, we&rsquo\;ll reflect on the hospital&rsquo\;s incredible journey\, honor the generations of patients and professionals who&rsquo\;ve been part of it\, and learn more about STHS McAllen&rsquo\;s ongoing commitment to expanding healthcare services throughout the Rio Grande Valley.<br />\n<br />\nJoin us as we celebrate 40 years of progress\, compassion\, and community impact. Let&rsquo\;s recognize the legacy and future of one of our region&rsquo\;s most trusted healthcare institutions.</span></span>
LOCATION:
UID:e.3411.1099
SEQUENCE:3
DTSTAMP:20260422T050134Z
URL:https://members.rgvhcc.org/events/details/anniversary-celebration-south-texas-health-system-mcallen-1099
END:VEVENT

END:VCALENDAR
