BEGIN:VCALENDAR
VERSION:2.0
PRODID:-//ChamberMaster//Event Calendar 2.0//EN
METHOD:PUBLISH
X-PUBLISHED-TTL:P3D
REFRESH-INTERVAL:P3D
CALSCALE:GREGORIAN
BEGIN:VEVENT
DTSTART:20260304T170000Z
DTEND:20260304T180000Z
X-MICROSOFT-CDO-ALLDAYEVENT:FALSE
SUMMARY:Anniversary: Children's 20th Anniversary Celebration
DESCRIPTION:Twenty years ago\, South Texas Health System Children's opened its doors as the Rio Grande Valley's first pediatric healthcare facility\, complete with the first dedicated emergency room just for kids.\n\n\n\nSince then\, STHS Children's has provided quality\, compassionate child-centered care to hundreds of thousands of kids and their families.\n\n\n\nTo celebrate the facility's dedication to putting kids first\, STHS Children's cordially invites you join STHS leaders\, staff and physicians at our upcoming 20th Anniversary Community Celebration.
X-ALT-DESC;FMTTYPE=text/html:<span style="font-size:16px\;"><span style="font-family:arial\;">Twenty years ago\, South Texas Health System Children&rsquo\;s opened its doors as the Rio Grande Valley&rsquo\;s first pediatric healthcare facility\, complete with the first dedicated emergency room just for kids.<br />\n<br />\nSince then\, STHS Children&rsquo\;s has provided quality\, compassionate child-centered care to hundreds of thousands of kids and their families.<br />\n<br />\nTo celebrate the facility&rsquo\;s dedication to putting kids first\, STHS Children&rsquo\;s cordially invites you join STHS leaders\, staff and physicians at our upcoming 20th Anniversary Community Celebration.</span></span>
LOCATION:
UID:e.3411.1132
SEQUENCE:3
DTSTAMP:20260421T233620Z
URL:https://members.rgvhcc.org/events/details/anniversary-children-s-20th-anniversary-celebration-1132
END:VEVENT

END:VCALENDAR
