BEGIN:VCALENDAR
VERSION:2.0
PRODID:-//ChamberMaster//Event Calendar 2.0//EN
METHOD:PUBLISH
X-PUBLISHED-TTL:P3D
REFRESH-INTERVAL:P3D
CALSCALE:GREGORIAN
BEGIN:VEVENT
DTSTART:20250822T103000Z
DTEND:20250824T170000Z
X-MICROSOFT-CDO-ALLDAYEVENT:FALSE
SUMMARY:Annual Membership Beach Weekend 2025
DESCRIPTION:RGVHCC South Padre Island Member Weekend\n\nAugust 22 24\, 2025\n\nJoin us for a weekend of connection\, fun\, and coastal celebration exclusively for RGV Hispanic Chamber of Commerce members. Enjoy networking\, local experiences\, and memorable moments with fellow members across South Padre Island.\n\n\nEvent Schedule\n\nFriday\, August 22\n\n5:30 PM   6:30 PM\n\nWelcome Mixer\n\nLocation: Holiday Inn Resort   South Padre Island\n\nKick off the weekend with refreshments\, networking\, and a relaxing oceanfront atmosphere.\n\n\nSaturday\, August 23\n\n1:00 PM   3:00 PM\n\nThe South Padre Shuffle   Scavenger Hunt\n\nHosted by the Visit SPI Team\n\nStarting Location: Holiday Inn Resort   South Padre Island\n\nIncludes a brief welcome\, instructions\, and scavenger map. Participants will visit five key destinations:\n\nFinish Line: Isla Grand Beach Resort\n\nBeach items will be handed out for the evening bonfire.\n\n6:00 PM\n\nEvent concludes at Isla Grand Beach Resort\n\n7:00 PM   12:00 AM\n\nMember Meetup Bonfire\n\nLocation: Beachside near Isla Grand\n\nUnwind and connect with fellow members under the stars at our casual beachside bonfire.\n\n\nSunday\, August 24\n\n9:00 AM\n\nMorning Reception and Check-In\n\nEnd-of-Weekend Continental Breakfast\n\nLocation: Port Isabel Convention Center\n\n\n\n10:00 AM\n\nAwards and Prizes Delivery\n\nSay farewell and wrap up the weekend with breakfast and networking. Winners of the scavenger hunt will be announced\, and a consolation raffle will be held for board members.\n\n\nMembers-Only Hotel Discounts\n\nIsla Grand Beach Resort\n\nTo book\, visit:\n\nhttps://bookings.travelclick.com/73052?_ga=2.265417741.367381353.1752601519-43834720.1715032077&_gl=1*2y8coh*_gcl_au*MjEwOTI2Mzg0OS4xNzQ4OTczNjUw&HotelID=73052#/datesofstay\n\n\n	\n	Group Code: 259BONFIRE\n	\n	\n	Pool View Cabana (King or Double/Double): $179.00++ per night plus $25.00 daily resort fee\n	\n	\n	Condominium: $409.00 per night plus $50.00 daily resort fee\n	\n	\n	Rates valid until August 1\, 2025\n	\n\n\n\nHoliday Inn Resort South Padre Island   On the Beach\n\nTo book\, visit:\n\nhttps://www.ihg.com/redirect?path=hd&brandCode=RS&localeCode=en&regionCode=1&hotelCode=PDITX&_PMID=99801505&GPC=MHG&cn=no&adjustMonth=false&showApp=true&monthIndex=00\n\n\nPlease note: This is a members-only event.\n\nWe look forward to spending the weekend with our incredible RGVHCC community!
X-ALT-DESC;FMTTYPE=text/html:<p data-end="218" data-start="149"><span style="font-family:arial\;"><strong data-end="193" data-start="149">RGVHCC South Padre Island Member Weekend</strong><br data-end="196" data-start="193" />\n<strong data-end="218" data-start="196">August 22&ndash\;24\, 2025</strong></span></p>\n\n<p data-end="449" data-start="220"><span style="font-family:arial\;">Join us for a weekend of connection\, fun\, and coastal celebration exclusively for RGV Hispanic Chamber of Commerce members. Enjoy networking\, local experiences\, and memorable moments with fellow members across South Padre Island.</span></p>\n\n<hr data-end="454" data-start="451" />\n<h3 data-end="474" data-start="456"><span style="font-family:arial\;">Event Schedule</span></h3>\n\n<p data-end="685" data-start="476"><span style="font-family:arial\;"><strong data-end="497" data-start="476">Friday\, August 22</strong><br data-end="500" data-start="497" />\n<strong data-end="521" data-start="500">5:30 PM &ndash\; 6:30 PM</strong><br data-end="524" data-start="521" />\n<strong data-end="541" data-start="524">Welcome Mixer</strong><br data-end="544" data-start="541" />\nLocation: Holiday Inn Resort &ndash\; South Padre Island<br data-end="596" data-start="593" />\nKick off the weekend with refreshments\, networking\, and a relaxing oceanfront atmosphere.</span></p>\n\n<hr data-end="690" data-start="687" />\n<p data-end="986" data-start="692"><span style="font-family:arial\;"><strong data-end="715" data-start="692">Saturday\, August 23</strong><br data-end="718" data-start="715" />\n<strong data-end="739" data-start="718">1:00 PM &ndash\; 3:00 PM</strong><br data-end="742" data-start="739" />\n<strong data-end="786" data-start="742">The South Padre Shuffle &ndash\; Scavenger Hunt</strong><br data-end="789" data-start="786" />\nHosted by the Visit SPI Team<br data-end="820" data-start="817" />\nStarting Location: Holiday Inn Resort &ndash\; South Padre Island<br data-end="881" data-start="878" />\nIncludes a brief welcome\, instructions\, and scavenger map. Participants will visit five key destinations:</span></p>\n\n<p data-end="1192" data-start="1098"><span style="font-family:arial\;">Finish Line: Isla Grand Beach Resort<br data-end="1137" data-start="1134" />\nBeach items will be handed out for the evening bonfire.</span></p>\n\n<p data-end="1250" data-start="1194"><span style="font-family:arial\;"><strong data-end="1205" data-start="1194">6:00 PM</strong><br data-end="1208" data-start="1205" />\nEvent concludes at Isla Grand Beach Resort</span></p>\n\n<p data-end="1430" data-start="1252"><span style="font-family:arial\;"><strong data-end="1274" data-start="1252">7:00 PM &ndash\; 12:00 AM</strong><br data-end="1277" data-start="1274" />\n<strong data-end="1302" data-start="1277">Member Meetup Bonfire</strong><br data-end="1305" data-start="1302" />\nLocation: Beachside near Isla Grand<br data-end="1343" data-start="1340" />\nUnwind and connect with fellow members under the stars at our casual beachside bonfire.</span></p>\n\n<hr data-end="1435" data-start="1432" />\n<p data-end="1760" data-start="1437"><span style="font-family:arial\;"><strong data-end="1458" data-start="1437">Sunday\, August 24</strong><br />\n<strong data-end="1274" data-start="1252">9:00 AM</strong><br data-end="1461" data-start="1458" />\n<strong data-end="1495" data-start="1461">Morning Reception and Check-In</strong><br data-end="1498" data-start="1495" />\n<strong data-end="1538" data-start="1498">End-of-Weekend Continental Breakfast</strong><br data-end="1541" data-start="1538" />\nLocation: Port Isabel Convention Center<br />\n<br />\n<strong data-end="1274" data-start="1252">10:00 AM</strong><br data-end="1461" data-start="1458" />\nAwards and Prizes Delivery<br data-end="1587" data-start="1584" />\nSay farewell and wrap up the weekend with breakfast and networking. Winners of the scavenger hunt will be announced\, and a consolation raffle will be held for board members.</span></p>\n\n<hr data-end="1339" data-start="1336" />\n<h3 data-end="1377" data-start="1341"><span style="font-family:arial\;"><strong data-end="1377" data-start="1345">Members-Only Hotel Discounts</strong></span></h3>\n\n<p data-end="1605" data-start="1379"><span style="font-family:arial\;"><strong data-end="1406" data-start="1379">Isla Grand Beach Resort</strong><br data-end="1409" data-start="1406" />\nTo book\, visit:<br data-end="1427" data-start="1424" />\n<em><strong data-end="1603" data-start="1427"><a data-end="1601" data-start="1429" href="https://bookings.travelclick.com/73052?_ga=2.265417741.367381353.1752601519-43834720.1715032077&amp\;_gl=1*2y8coh*_gcl_au*MjEwOTI2Mzg0OS4xNzQ4OTczNjUw&amp\;HotelID=73052#/datesofstay" rel="noopener" target="_new">https://bookings.travelclick.com/73052?_ga=2.265417741.367381353.1752601519-43834720.1715032077&amp\;_gl=1*2y8coh*_gcl_au*MjEwOTI2Mzg0OS4xNzQ4OTczNjUw&amp\;HotelID=73052#/datesofstay</a></strong></em></span></p>\n\n<ul data-end="1840" data-start="1606">\n	<li data-end="1636" data-start="1606">\n	<p data-end="1636" data-start="1608"><span style="font-family:arial\;">Group Code: <strong data-end="1634" data-start="1620">259BONFIRE</strong></span></p>\n	</li>\n	<li data-end="1735" data-start="1637">\n	<p data-end="1735" data-start="1639"><span style="font-family:arial\;">Pool View Cabana (King or Double/Double): <strong data-end="1704" data-start="1681">$179.00++ per night</strong> plus $25.00 daily resort fee</span></p>\n	</li>\n	<li data-end="1803" data-start="1736">\n	<p data-end="1803" data-start="1738"><span style="font-family:arial\;">Condominium: <strong data-end="1772" data-start="1751">$409.00 per night</strong> plus $50.00 daily resort fee</span></p>\n	</li>\n	<li data-end="1840" data-start="1804">\n	<p data-end="1840" data-start="1806"><span style="font-family:arial\;"><em data-end="1840" data-start="1806">Rates valid until August 1\, 2025</em></span></p>\n	</li>\n</ul>\n\n<hr data-end="1845" data-start="1842" />\n<p data-end="2094" data-start="1847"><span style="font-family:arial\;"><strong data-end="1903" data-start="1847">Holiday Inn Resort South Padre Island &ndash\; On the Beach</strong><br data-end="1906" data-start="1903" />\nTo book\, visit:<br data-end="1924" data-start="1921" />\n<em><strong data-end="2094" data-start="1924"><a data-end="2092" data-start="1926" href="https://www.ihg.com/redirect?path=hd&amp\;brandCode=RS&amp\;localeCode=en&amp\;regionCode=1&amp\;hotelCode=PDITX&amp\;_PMID=99801505&amp\;GPC=MHG&amp\;cn=no&amp\;adjustMonth=false&amp\;showApp=true&amp\;monthIndex=00" rel="noopener" target="_new">https://www.ihg.com/redirect?path=hd&amp\;brandCode=RS&amp\;localeCode=en&amp\;regionCode=1&amp\;hotelCode=PDITX&amp\;_PMID=99801505&amp\;GPC=MHG&amp\;cn=no&amp\;adjustMonth=false&amp\;showApp=true&amp\;monthIndex=00</a></strong></em></span></p>\n\n<hr data-end="2099" data-start="2096" />\n<p data-end="2227" data-start="2101"><span style="font-family:arial\;"><strong data-end="2147" data-start="2101">Please note: This is a members-only event.</strong><br data-end="2150" data-start="2147" />\nWe look forward to spending the weekend with our incredible RGVHCC community!</span></p>\n
LOCATION:
UID:e.3411.1021
SEQUENCE:3
DTSTAMP:20260422T112508Z
URL:https://members.rgvhcc.org/events/details/annual-membership-beach-weekend-2025-1021
END:VEVENT

END:VCALENDAR
