BEGIN:VCALENDAR
VERSION:2.0
PRODID:-//ChamberMaster//Event Calendar 2.0//EN
METHOD:PUBLISH
X-PUBLISHED-TTL:P3D
REFRESH-INTERVAL:P3D
CALSCALE:GREGORIAN
BEGIN:VEVENT
DTSTART:20250128T233000Z
DTEND:20250129T013000Z
X-MICROSOFT-CDO-ALLDAYEVENT:FALSE
SUMMARY:Annual Membership Meeting 2025
DESCRIPTION:RGVHCC Annual Membership Meeting   2025\n\nWe are excited to invite you to our Annual Membership Meeting\, a vital gathering where members can network and discuss critical issues affecting their businesses\, such as transportation\, healthcare\, immigration\, taxes\, education\, and more.\n\nKey highlights of the meeting include:\n\n\n	Networking Opportunities: Connect with fellow members to share ideas\, challenges\, and solutions.\n	Major 2025 Event Announcements: Be the first to hear about the exciting events planned for the year ahead.\n	By-Law Changes: Review proposed updates to our organization's governing guidelines.\n	Board Member Elections: Participate in shaping the future leadership of the RGVHCC.\n\n\nBoard Member Elections:\n\nIf you are interested in serving on the board\, you must be a member in good standing and meet the qualifications for the position. For a complete description of the roles\, please contact the RGVHCC office at (956) 928-0060. To be eligible\, submit a short letter of intent and a professional bio no later than January 21\, 2025.\n\nWe strongly encourage you to attend\, enjoy refreshments\, network with other members\, and possibly win a door prize!\n\nIt is our privilege to serve as your voice and advocate in the Rio Grande Valley\, Austin\, and Washington\, D.C. We look forward to your participation as we work together to strengthen our business community.
X-ALT-DESC;FMTTYPE=text/html:<div class="flex-1 overflow-hidden @container/thread">\n<div class="h-full">\n<div class="react-scroll-to-bottom--css-hdsvs-79elbk h-full">\n<div class="react-scroll-to-bottom--css-hdsvs-1n7m0yu">\n<div class="flex flex-col text-sm md:pb-9">\n<article class="w-full scroll-mb-[var(--thread-trailing-height\,150px)] text-token-text-primary focus-visible:outline-2 focus-visible:outline-offset-[-4px]" data-scroll-anchor="true" data-testid="conversation-turn-3" dir="auto">\n<div class="m-auto text-base py-[18px] px-3 md:px-4 w-full md:px-5 lg:px-4 xl:px-5">\n<div class="mx-auto flex flex-1 gap-4 text-base md:gap-5 lg:gap-6 md:max-w-3xl lg:max-w-[40rem] xl:max-w-[48rem]">\n<div class="group/conversation-turn relative flex w-full min-w-0 flex-col agent-turn">\n<div class="flex-col gap-1 md:gap-3">\n<div class="flex max-w-full flex-col flex-grow">\n<div class="min-h-8 text-message flex w-full flex-col items-end gap-2 whitespace-normal break-words text-start [.text-message+&amp\;]:mt-5" data-message-author-role="assistant" data-message-id="36e6acbf-8e9c-4f01-b3a0-04af894fe793" data-message-model-slug="gpt-4o" dir="auto">\n<div class="flex w-full flex-col gap-1 empty:hidden first:pt-[3px]">\n<div class="markdown prose w-full break-words dark:prose-invert light">\n<p><strong>RGVHCC Annual Membership Meeting &ndash\; 2025</strong></p>\n\n<p>We are excited to invite you to our Annual Membership Meeting\, a vital gathering where members can network and discuss critical issues affecting their businesses\, such as transportation\, healthcare\, immigration\, taxes\, education\, and more.</p>\n\n<p><strong>Key highlights of the meeting include:</strong></p>\n\n<ul>\n	<li><strong>Networking Opportunities:</strong> Connect with fellow members to share ideas\, challenges\, and solutions.</li>\n	<li><strong>Major 2025 Event Announcements:</strong> Be the first to hear about the exciting events planned for the year ahead.</li>\n	<li><strong>By-Law Changes:</strong> Review proposed updates to our organization&rsquo\;s governing guidelines.</li>\n	<li><strong>Board Member Elections:</strong> Participate in shaping the future leadership of the RGVHCC.</li>\n</ul>\n\n<p><strong>Board Member Elections:</strong><br />\nIf you are interested in serving on the board\, you must be a member in good standing and meet the qualifications for the position. For a complete description of the roles\, please contact the RGVHCC office at (956) 928-0060. To be eligible\, submit a short letter of intent and a professional bio no later than <strong>January 21\, 2025.</strong></p>\n\n<p>We strongly encourage you to attend\, enjoy refreshments\, network with other members\, and possibly win a door prize!</p>\n\n<p>It is our privilege to serve as your voice and advocate in the Rio Grande Valley\, Austin\, and Washington\, D.C. We look forward to your participation as we work together to strengthen our business community.</p>\n</div>\n</div>\n</div>\n</div>\n</div>\n</div>\n</div>\n</div>\n</article>\n</div>\n</div>\n</div>\n</div>\n</div>\n
LOCATION:Fireman's Pumphouse 201 N 1st St\, McAllen\, TX 78501\, United States *located near Drafthouse Townlake
UID:e.3411.892
SEQUENCE:3
DTSTAMP:20260422T232904Z
URL:https://members.rgvhcc.org/events/details/annual-membership-meeting-2025-892
END:VEVENT

END:VCALENDAR
