BEGIN:VCALENDAR
VERSION:2.0
PRODID:-//ChamberMaster//Event Calendar 2.0//EN
METHOD:PUBLISH
X-PUBLISHED-TTL:P3D
REFRESH-INTERVAL:P3D
CALSCALE:GREGORIAN
BEGIN:VEVENT
DTSTART:20251122T220000Z
DTEND:20251123T000000Z
X-MICROSOFT-CDO-ALLDAYEVENT:FALSE
SUMMARY:Automotive Workshop with Integrity Auto Repair!
DESCRIPTION:The Rio Grande Valley Hispanic Chamber of Commerce invites the community to join Integrity Auto Repair in Edinburg\, TX for their 2nd Annual FREE Automotive Workshop happening tomorrow from 4:00 PM to 6:00 PM!\n\n\n\nThis hands-on\, family-friendly workshop is perfect for all experience levels. You'll learn how to jump-start a vehicle\, check your fluids and tire pressure\, change a spare\, understand those dashboard warning lights\, and more   all guided directly by the Integrity Auto Repair owners and techs.\n\n\n\nThe event begins in the General Area with a warm welcome and a prayer before everyone rotates through multiple interactive learning stations. Attendees can enjoy refreshments\, hop onto the MATCO tool truck for some fun browsing  \, and enter awesome prize raffles throughout the workshop.\n\n\n\nBring your friends and family\, arrive early\, and get ready for a practical\, engaging\, and completely FREE workshop designed to help you feel more confident around your vehicle. See you there!\n\n\n\nFollow Integrity Auto Repair on Facebook: facebook.com/integrityautorgv
X-ALT-DESC;FMTTYPE=text/html:The Rio Grande Valley Hispanic Chamber of Commerce invites the community to join Integrity Auto Repair in Edinburg\, TX for their 2nd Annual FREE Automotive Workshop happening tomorrow from 4:00 PM to 6:00 PM!<br />\n<br />\nThis hands-on\, family-friendly workshop is perfect for all experience levels. You&rsquo\;ll learn how to jump-start a vehicle\, check your fluids and tire pressure\, change a spare\, understand those dashboard warning lights\, and more &mdash\; all guided directly by the Integrity Auto Repair owners and techs.<br />\n<br />\nThe event begins in the General Area with a warm welcome and a prayer before everyone rotates through multiple interactive learning stations. Attendees can enjoy refreshments\, hop onto the MATCO tool truck for some fun browsing &#128295\;\, and enter awesome prize raffles throughout the workshop.<br />\n<br />\nBring your friends and family\, arrive early\, and get ready for a practical\, engaging\, and completely FREE workshop designed to help you feel more confident around your vehicle. See you there!<br />\n<br />\nFollow Integrity Auto Repair on Facebook: <a href="http://facebook.com/integrityautorgv">facebook.com/integrityautorgv</a>
LOCATION:
UID:e.3411.1091
SEQUENCE:3
DTSTAMP:20260422T075651Z
URL:https://members.rgvhcc.org/events/details/automotive-workshop-with-integrity-auto-repair-1091
END:VEVENT

END:VCALENDAR
