BEGIN:VCALENDAR
VERSION:2.0
PRODID:-//ChamberMaster//Event Calendar 2.0//EN
METHOD:PUBLISH
X-PUBLISHED-TTL:P3D
REFRESH-INTERVAL:P3D
CALSCALE:GREGORIAN
BEGIN:VEVENT
DTSTART:20260228T170000Z
DTEND:20260228T193000Z
X-MICROSOFT-CDO-ALLDAYEVENT:FALSE
SUMMARY:B.E.C.O.M.I.N.G. A Butterfly Brunch & Fashion Show
DESCRIPTION:We are excited to announce B.E.C.O.M.I.N.G.\, a Fashion Show Fundraiser benefiting the Children's Bereavement Center of the Rio Grande Valley. This inspiring event celebrates healing\, hope\, and transformation while supporting the critical services CBC-RGV provides to children and families across our community.\n\n\n\nGelman Stained Glass Museum Mark your calendars! Go to our website at www.cbc-rgv.org for sponsorship details
X-ALT-DESC;FMTTYPE=text/html:We are excited to announce B.E.C.O.M.I.N.G.\, a Fashion Show Fundraiser benefiting the Children&rsquo\;s Bereavement Center of the Rio Grande Valley. This inspiring event celebrates healing\, hope\, and transformation&mdash\;while supporting the critical services CBC-RGV provides to children and families across our community.<br />\n<br />\nGelman Stained Glass Museum Mark your calendars! Go to our website at www.cbc-rgv.org for sponsorship details&nbsp\;
LOCATION:Gelman Stained Glass Museum
UID:e.3411.1117
SEQUENCE:3
DTSTAMP:20260422T012454Z
URL:https://members.rgvhcc.org/events/details/b-e-c-o-m-i-n-g-a-butterfly-brunch-fashion-show-1117
END:VEVENT

END:VCALENDAR
