BEGIN:VCALENDAR
VERSION:2.0
PRODID:-//ChamberMaster//Event Calendar 2.0//EN
METHOD:PUBLISH
X-PUBLISHED-TTL:P3D
REFRESH-INTERVAL:P3D
CALSCALE:GREGORIAN
BEGIN:VEVENT
DTSTART:20230827T000000Z
DTEND:20230827T040000Z
X-MICROSOFT-CDO-ALLDAYEVENT:FALSE
SUMMARY:Beach Bonfire Social
DESCRIPTION:Join us Saturday Night for a beach bonfire social with other members of the RGVHCC
X-ALT-DESC;FMTTYPE=text/html:Join us Saturday Night for a beach bonfire social with other members of the RGVHCC
LOCATION:
UID:e.3411.599
SEQUENCE:3
DTSTAMP:20260424T162547Z
URL:https://members.rgvhcc.org/events/details/beach-bonfire-social-599
END:VEVENT

END:VCALENDAR
