BEGIN:VCALENDAR
VERSION:2.0
PRODID:-//ChamberMaster//Event Calendar 2.0//EN
METHOD:PUBLISH
X-PUBLISHED-TTL:P3D
REFRESH-INTERVAL:P3D
CALSCALE:GREGORIAN
BEGIN:VEVENT
DTSTART:20250324T120000Z
DTEND:20250329T180000Z
X-MICROSOFT-CDO-ALLDAYEVENT:FALSE
SUMMARY:Bobcat of the Rio Grande Valley Mower Madness Event
DESCRIPTION:Join us for our one-week exclusive spring sales event and get ready for the biggest savings of the year on Bobcat Zero-Turn Mowers. You can take advantage of:   0% Financing with $0 Down*   Cash Rebates   Discounts on mowers this one-week only There's no better time to gear up with the equipment you need to tackle even the toughest lawns and landscapes. Don't miss out on these unbeatable deals!
X-ALT-DESC;FMTTYPE=text/html:Join us for our one-week exclusive spring sales event and get ready for the biggest savings of the year on Bobcat Zero-Turn Mowers. You can take advantage of: &bull\; 0% Financing with $0 Down* &bull\; Cash Rebates &bull\; Discounts on mowers this one-week only There&#39\;s no better time to gear up with the equipment you need to tackle even the toughest lawns and landscapes. Don&#39\;t miss out on these unbeatable deals!
LOCATION:Bobcat of the Rio Grande Valley 222 W Frontage Road Alamo\, TX 78516
UID:e.3411.935
SEQUENCE:3
DTSTAMP:20260422T194923Z
URL:https://members.rgvhcc.org/events/details/bobcat-of-the-rio-grande-valley-mower-madness-event-935
END:VEVENT

END:VCALENDAR
