BEGIN:VCALENDAR
VERSION:2.0
PRODID:-//ChamberMaster//Event Calendar 2.0//EN
METHOD:PUBLISH
X-PUBLISHED-TTL:P3D
REFRESH-INTERVAL:P3D
CALSCALE:GREGORIAN
BEGIN:VEVENT
DTSTART:20241120T200000Z
DTEND:20241120T210000Z
X-MICROSOFT-CDO-ALLDAYEVENT:FALSE
SUMMARY:Boosting Customer Satisfaction in Your Restaurant
DESCRIPTION:Join us for an insightful seminar designed to enhance the customer service experience in your restaurant! This session will cover essential tips and best practices to ensure your guests leave with a smile and a desire to return.\n\n\n\nTopics include: -Managing and understanding customer expectations\n\n-Effective communication\n\n-Personalized service\n\n-Team training and motivation\n\n\n\n*Presented by the UTRGV SBDC with promotional support from participating resource partners\, including the Brownsville Chamber of Commerce\; Consulate of Mexico in McAllen\; Economic Development Corporation of Weslaco\; Edinburg Chamber of Commerce\; Elsa Economic Development Corporation\; Greater Alton Chamber of Commerce\; Greater Pharr Chamber of Commerce\; Greater Mission Chamber of Commerce\; Harlingen Economic Development Corporation\; Hidalgo Economic Development Corporation\; Palmview Chamber of Commerce\; Rio Grande City Economic Development Corporation\; Rio Grande City Greater Chamber of Commerce\; Rio Grande City Public Library\; Rio Grande Valley Hispanic Chamber of Commerce\; San Benito Chamber of Commerce\; South Padre Island Chamber of Commerce\; Starr County Industrial Foundation\; and Weslaco Area Chamber of Commerce & Visitors Center.
X-ALT-DESC;FMTTYPE=text/html:<span style="color: rgb(35\, 35\, 51)\; font-family: &quot\;Helvetica Neue&quot\;\, Helvetica\, Arial\, sans-serif\; font-size: 14px\; white-space-collapse: preserve\; background-color: rgb(255\, 255\, 255)\;">Join us for an insightful seminar designed to enhance the customer service experience in your restaurant! This session will cover essential tips and best practices to ensure your guests leave with a smile and a desire to return.<br />\n<br />\nTopics include: -Managing and understanding customer expectations<br />\n-Effective communication<br />\n-Personalized service<br />\n-Team training and motivation<br />\n<br />\n*Presented by the UTRGV SBDC with promotional support from participating resource partners\, including the Brownsville Chamber of Commerce\; Consulate of Mexico in McAllen\; Economic Development Corporation of Weslaco\; Edinburg Chamber of Commerce\; Elsa Economic Development Corporation\; Greater Alton Chamber of Commerce\; Greater Pharr Chamber of Commerce\; Greater Mission Chamber of Commerce\; Harlingen Economic Development Corporation\; Hidalgo Economic Development Corporation\; Palmview Chamber of Commerce\; Rio Grande City Economic Development Corporation\; Rio Grande City Greater Chamber of Commerce\; Rio Grande City Public Library\; Rio Grande Valley Hispanic Chamber of Commerce\; San Benito Chamber of Commerce\; South Padre Island Chamber of Commerce\; Starr County Industrial Foundation\; and Weslaco Area Chamber of Commerce &amp\; Visitors Center.</span>
LOCATION:WEBINAR REGISTATRION: https://utrgv.zoom.us/webinar/register/8417303023817/WN_KiyphBjyQ0CEuU-BhGKOPg#/registration
UID:e.3411.862
SEQUENCE:3
DTSTAMP:20260423T084953Z
URL:https://members.rgvhcc.org/events/details/boosting-customer-satisfaction-in-your-restaurant-862
END:VEVENT

END:VCALENDAR
