BEGIN:VCALENDAR
VERSION:2.0
PRODID:-//ChamberMaster//Event Calendar 2.0//EN
METHOD:PUBLISH
X-PUBLISHED-TTL:P3D
REFRESH-INTERVAL:P3D
CALSCALE:GREGORIAN
BEGIN:VEVENT
DTSTART:20250122T153000Z
DTEND:20250122T174500Z
X-MICROSOFT-CDO-ALLDAYEVENT:FALSE
SUMMARY:Cafecito with your BBB
DESCRIPTION:Join us for a dynamic event featuring networking opportunities\, insights on avoiding scams from the Better Business Bureau\, and an impactful keynote by Miguel Rodriguez\, Special Agent at IRS Criminal Investigation. Hosted by the RGV Hispanic Chamber of Commerce\, with refreshments sponsored by Gonzalez & Arrambide\, Inc.\, this session is packed with valuable connections and critical information for professionals.\n\n\n\n\nRSVP by: Monday\, January 20th with Sandra Morin at smorin@bbbsouthtexas.org\n\nInterested in being a refreshment sponsor for this event?\n\n\n\nContact Sandra Morin today!\n\nCafecito with YOUR BBB\n\nBetter Business Bureau Serving South Texas
X-ALT-DESC;FMTTYPE=text/html:<div class="flex max-w-full flex-col flex-grow">\n<div class="min-h-8 text-message flex w-full flex-col items-end gap-2 whitespace-normal break-words text-start [.text-message+&amp\;]:mt-5" data-message-author-role="assistant" data-message-id="49aeb1ed-30d4-462d-a07a-a78f0da155c3" data-message-model-slug="gpt-4o" dir="auto">\n<div class="flex w-full flex-col gap-1 empty:hidden first:pt-[3px]">\n<div class="markdown prose w-full break-words dark:prose-invert light">\n<p>Join us for a dynamic event featuring networking opportunities\, insights on avoiding scams from the Better Business Bureau\, and an impactful keynote by Miguel Rodriguez\, Special Agent at IRS Criminal Investigation. Hosted by the RGV Hispanic Chamber of Commerce\, with refreshments sponsored by Gonzalez &amp\; Arrambide\, Inc.\, this session is packed with valuable connections and critical information for professionals.</p>\n</div>\n</div>\n</div>\n</div>\nRSVP by: Monday\, January 20th with Sandra Morin at smorin@bbbsouthtexas.org<br />\nInterested in being a refreshment sponsor for this event?<br />\n<br />\nContact Sandra Morin today!<br />\nCafecito with YOUR BBB<br />\nBetter Business Bureau Serving South Texas<br />\n&nbsp\;
LOCATION:EBC AT THE DISTRICT - LARGE CONFERECE ROOM
UID:e.3411.891
SEQUENCE:3
DTSTAMP:20260422T232521Z
URL:https://members.rgvhcc.org/events/details/cafecito-with-your-bbb-891
END:VEVENT

END:VCALENDAR
