BEGIN:VCALENDAR
VERSION:2.0
PRODID:-//ChamberMaster//Event Calendar 2.0//EN
METHOD:PUBLISH
X-PUBLISHED-TTL:P3D
REFRESH-INTERVAL:P3D
CALSCALE:GREGORIAN
BEGIN:VEVENT
DTSTART:20240423T130000Z
DTEND:20240423T143000Z
X-MICROSOFT-CDO-ALLDAYEVENT:FALSE
SUMMARY:Café y Pan Dulce - Make A Wish Foundation
DESCRIPTION:Join Us for a Delightful Morning at "Caf  y Pan Dulce" Mixer!\n \n\nImagine a morning filled with delightful coffee\, sweet pan dulce\, and fantastic connections. Our Morning Mixers are not just networking events   they're a chance for businesses to open their doors to Chamber investors\, showcasing the unique charm of their establishments.\n\n \n\n\n  Why Attend? Morning Mixers are all about fostering connections! It's the perfect opportunity for you to meet and greet fellow investors\, discover new business prospects\, and enjoy the warm camaraderie of the RGVHCC community.\n\nReady to sip\, savor\, and socialize? RSVP now and don't miss out on a morning of meaningful connections and delicious treats!\n\nSee you there!
X-ALT-DESC;FMTTYPE=text/html:<span style="white-space-collapse: preserve\; color: rgb(55\, 65\, 81)\; font-family: Söhne\, ui-sans-serif\, system-ui\, -apple-system\, &quot\;Segoe UI&quot\;\, Roboto\, Ubuntu\, Cantarell\, &quot\;Noto Sans&quot\;\, sans-serif\, &quot\;Helvetica Neue&quot\;\, Arial\, &quot\;Apple Color Emoji&quot\;\, &quot\;Segoe UI Emoji&quot\;\, &quot\;Segoe UI Symbol&quot\;\, &quot\;Noto Color Emoji&quot\;\; font-size: 16px\;">Join Us for a Delightful Morning at &quot\;Caf&eacute\; y Pan Dulce&quot\; Mixer!</span>\n<div style="color: rgb(51\, 51\, 51)\; font-family: sans-serif\, Arial\, Verdana\, &quot\;Trebuchet MS&quot\;\; font-size: 13px\;">&nbsp\;</div>\n\n<div style="color: rgb(51\, 51\, 51)\; font-family: sans-serif\, Arial\, Verdana\, &quot\;Trebuchet MS&quot\;\; font-size: 13px\;"><span style="color: rgb(55\, 65\, 81)\; font-family: Söhne\, ui-sans-serif\, system-ui\, -apple-system\, &quot\;Segoe UI&quot\;\, Roboto\, Ubuntu\, Cantarell\, &quot\;Noto Sans&quot\;\, sans-serif\, &quot\;Helvetica Neue&quot\;\, Arial\, &quot\;Apple Color Emoji&quot\;\, &quot\;Segoe UI Emoji&quot\;\, &quot\;Segoe UI Symbol&quot\;\, &quot\;Noto Color Emoji&quot\;\; font-size: 16px\; white-space-collapse: preserve\;">Imagine a morning filled with delightful coffee\, sweet pan dulce\, and fantastic connections. Our Morning Mixers are not just networking events &ndash\; they&#39\;re a chance for businesses to open their doors to Chamber investors\, showcasing the unique charm of their establishments.</span></div>\n\n<div style="color: rgb(51\, 51\, 51)\; font-family: sans-serif\, Arial\, Verdana\, &quot\;Trebuchet MS&quot\;\; font-size: 13px\;">&nbsp\;</div>\n\n<div style="color: rgb(51\, 51\, 51)\; font-family: sans-serif\, Arial\, Verdana\, &quot\;Trebuchet MS&quot\;\; font-size: 13px\;">\n<p style="border: 0px solid rgb(217\, 217\, 227)\; box-sizing: border-box\; --tw-border-spacing-x: 0\; --tw-border-spacing-y: 0\; --tw-translate-x: 0\; --tw-translate-y: 0\; --tw-rotate: 0\; --tw-skew-x: 0\; --tw-skew-y: 0\; --tw-scale-x: 1\; --tw-scale-y: 1\; --tw-pan-x: \; --tw-pan-y: \; --tw-pinch-zoom: \; --tw-scroll-snap-strictness: proximity\; --tw-gradient-from-position: \; --tw-gradient-via-position: \; --tw-gradient-to-position: \; --tw-ordinal: \; --tw-slashed-zero: \; --tw-numeric-figure: \; --tw-numeric-spacing: \; --tw-numeric-fraction: \; --tw-ring-inset: \; --tw-ring-offset-width: 0px\; --tw-ring-offset-color: #fff\; --tw-ring-color: rgba(69\,89\,164\,.5)\; --tw-ring-offset-shadow: 0 0 transparent\; --tw-ring-shadow: 0 0 transparent\; --tw-shadow: 0 0 transparent\; --tw-shadow-colored: 0 0 transparent\; --tw-blur: \; --tw-brightness: \; --tw-contrast: \; --tw-grayscale: \; --tw-hue-rotate: \; --tw-invert: \; --tw-saturate: \; --tw-sepia: \; --tw-drop-shadow: \; --tw-backdrop-blur: \; --tw-backdrop-brightness: \; --tw-backdrop-contrast: \; --tw-backdrop-grayscale: \; --tw-backdrop-hue-rotate: \; --tw-backdrop-invert: \; --tw-backdrop-opacity: \; --tw-backdrop-saturate: \; --tw-backdrop-sepia: \; margin: 1.25em 0px\; color: rgb(55\, 65\, 81)\; font-family: Söhne\, ui-sans-serif\, system-ui\, -apple-system\, &quot\;Segoe UI&quot\;\, Roboto\, Ubuntu\, Cantarell\, &quot\;Noto Sans&quot\;\, sans-serif\, &quot\;Helvetica Neue&quot\;\, Arial\, &quot\;Apple Color Emoji&quot\;\, &quot\;Segoe UI Emoji&quot\;\, &quot\;Segoe UI Symbol&quot\;\, &quot\;Noto Color Emoji&quot\;\; font-size: 16px\; white-space-collapse: preserve\;">&#129309\; <span style="border: 0px solid rgb(217\, 217\, 227)\; box-sizing: border-box\; --tw-border-spacing-x: 0\; --tw-border-spacing-y: 0\; --tw-translate-x: 0\; --tw-translate-y: 0\; --tw-rotate: 0\; --tw-skew-x: 0\; --tw-skew-y: 0\; --tw-scale-x: 1\; --tw-scale-y: 1\; --tw-pan-x: \; --tw-pan-y: \; --tw-pinch-zoom: \; --tw-scroll-snap-strictness: proximity\; --tw-gradient-from-position: \; --tw-gradient-via-position: \; --tw-gradient-to-position: \; --tw-ordinal: \; --tw-slashed-zero: \; --tw-numeric-figure: \; --tw-numeric-spacing: \; --tw-numeric-fraction: \; --tw-ring-inset: \; --tw-ring-offset-width: 0px\; --tw-ring-offset-color: #fff\; --tw-ring-color: rgba(69\,89\,164\,.5)\; --tw-ring-offset-shadow: 0 0 transparent\; --tw-ring-shadow: 0 0 transparent\; --tw-shadow: 0 0 transparent\; --tw-shadow-colored: 0 0 transparent\; --tw-blur: \; --tw-brightness: \; --tw-contrast: \; --tw-grayscale: \; --tw-hue-rotate: \; --tw-invert: \; --tw-saturate: \; --tw-sepia: \; --tw-drop-shadow: \; --tw-backdrop-blur: \; --tw-backdrop-brightness: \; --tw-backdrop-contrast: \; --tw-backdrop-grayscale: \; --tw-backdrop-hue-rotate: \; --tw-backdrop-invert: \; --tw-backdrop-opacity: \; --tw-backdrop-saturate: \; --tw-backdrop-sepia: \; font-weight: 600\; color: var(--tw-prose-bold)\;">Why Attend?</span> Morning Mixers are all about fostering connections! It&#39\;s the perfect opportunity for you to meet and greet fellow investors\, discover new business prospects\, and enjoy the warm camaraderie of the RGVHCC community.</p>\n\n<p style="border: 0px solid rgb(217\, 217\, 227)\; box-sizing: border-box\; --tw-border-spacing-x: 0\; --tw-border-spacing-y: 0\; --tw-translate-x: 0\; --tw-translate-y: 0\; --tw-rotate: 0\; --tw-skew-x: 0\; --tw-skew-y: 0\; --tw-scale-x: 1\; --tw-scale-y: 1\; --tw-pan-x: \; --tw-pan-y: \; --tw-pinch-zoom: \; --tw-scroll-snap-strictness: proximity\; --tw-gradient-from-position: \; --tw-gradient-via-position: \; --tw-gradient-to-position: \; --tw-ordinal: \; --tw-slashed-zero: \; --tw-numeric-figure: \; --tw-numeric-spacing: \; --tw-numeric-fraction: \; --tw-ring-inset: \; --tw-ring-offset-width: 0px\; --tw-ring-offset-color: #fff\; --tw-ring-color: rgba(69\,89\,164\,.5)\; --tw-ring-offset-shadow: 0 0 transparent\; --tw-ring-shadow: 0 0 transparent\; --tw-shadow: 0 0 transparent\; --tw-shadow-colored: 0 0 transparent\; --tw-blur: \; --tw-brightness: \; --tw-contrast: \; --tw-grayscale: \; --tw-hue-rotate: \; --tw-invert: \; --tw-saturate: \; --tw-sepia: \; --tw-drop-shadow: \; --tw-backdrop-blur: \; --tw-backdrop-brightness: \; --tw-backdrop-contrast: \; --tw-backdrop-grayscale: \; --tw-backdrop-hue-rotate: \; --tw-backdrop-invert: \; --tw-backdrop-opacity: \; --tw-backdrop-saturate: \; --tw-backdrop-sepia: \; margin: 1.25em 0px\; color: rgb(55\, 65\, 81)\; font-family: Söhne\, ui-sans-serif\, system-ui\, -apple-system\, &quot\;Segoe UI&quot\;\, Roboto\, Ubuntu\, Cantarell\, &quot\;Noto Sans&quot\;\, sans-serif\, &quot\;Helvetica Neue&quot\;\, Arial\, &quot\;Apple Color Emoji&quot\;\, &quot\;Segoe UI Emoji&quot\;\, &quot\;Segoe UI Symbol&quot\;\, &quot\;Noto Color Emoji&quot\;\; font-size: 16px\; white-space-collapse: preserve\;">Ready to sip\, savor\, and socialize? RSVP now and don&#39\;t miss out on a morning of meaningful connections and delicious treats!</p>\n\n<p style="border: 0px solid rgb(217\, 217\, 227)\; box-sizing: border-box\; --tw-border-spacing-x: 0\; --tw-border-spacing-y: 0\; --tw-translate-x: 0\; --tw-translate-y: 0\; --tw-rotate: 0\; --tw-skew-x: 0\; --tw-skew-y: 0\; --tw-scale-x: 1\; --tw-scale-y: 1\; --tw-pan-x: \; --tw-pan-y: \; --tw-pinch-zoom: \; --tw-scroll-snap-strictness: proximity\; --tw-gradient-from-position: \; --tw-gradient-via-position: \; --tw-gradient-to-position: \; --tw-ordinal: \; --tw-slashed-zero: \; --tw-numeric-figure: \; --tw-numeric-spacing: \; --tw-numeric-fraction: \; --tw-ring-inset: \; --tw-ring-offset-width: 0px\; --tw-ring-offset-color: #fff\; --tw-ring-color: rgba(69\,89\,164\,.5)\; --tw-ring-offset-shadow: 0 0 transparent\; --tw-ring-shadow: 0 0 transparent\; --tw-shadow: 0 0 transparent\; --tw-shadow-colored: 0 0 transparent\; --tw-blur: \; --tw-brightness: \; --tw-contrast: \; --tw-grayscale: \; --tw-hue-rotate: \; --tw-invert: \; --tw-saturate: \; --tw-sepia: \; --tw-drop-shadow: \; --tw-backdrop-blur: \; --tw-backdrop-brightness: \; --tw-backdrop-contrast: \; --tw-backdrop-grayscale: \; --tw-backdrop-hue-rotate: \; --tw-backdrop-invert: \; --tw-backdrop-opacity: \; --tw-backdrop-saturate: \; --tw-backdrop-sepia: \; margin: 1.25em 0px\; color: rgb(55\, 65\, 81)\; font-family: Söhne\, ui-sans-serif\, system-ui\, -apple-system\, &quot\;Segoe UI&quot\;\, Roboto\, Ubuntu\, Cantarell\, &quot\;Noto Sans&quot\;\, sans-serif\, &quot\;Helvetica Neue&quot\;\, Arial\, &quot\;Apple Color Emoji&quot\;\, &quot\;Segoe UI Emoji&quot\;\, &quot\;Segoe UI Symbol&quot\;\, &quot\;Noto Color Emoji&quot\;\; font-size: 16px\; white-space-collapse: preserve\;">See you there!</p>\n</div>\n
LOCATION:Vantage Bank 6th Floor - Conference Room
UID:e.3411.755
SEQUENCE:3
DTSTAMP:20260424T054512Z
URL:https://members.rgvhcc.org/events/details/caf&#233;-y-pan-dulce-make-a-wish-foundation-755
END:VEVENT

END:VCALENDAR
