BEGIN:VCALENDAR
VERSION:2.0
PRODID:-//ChamberMaster//Event Calendar 2.0//EN
METHOD:PUBLISH
X-PUBLISHED-TTL:P3D
REFRESH-INTERVAL:P3D
CALSCALE:GREGORIAN
BEGIN:VEVENT
DTSTART:20250712T213000Z
DTEND:20250712T230000Z
X-MICROSOFT-CDO-ALLDAYEVENT:FALSE
SUMMARY:Candle Making Workshop
DESCRIPTION:Candle Making Workshop in McAllen   Hosted by Selfies and More & Finari\n\nGet creative and unwind at our hands-on Candle Making Workshop brought to you by Selfies and More and Finari in McAllen\, Texas! Learn how to craft your own custom-scented candle in a fun\, relaxed setting perfect for a unique night out or a little self-care treat.\n\n\n\nInvestment: $30.00 per person\n\nSpaces are limited! For more information or to reserve your spot\, contact Denise at studio@selfiesandmore.com. Let your creativity shine!
X-ALT-DESC;FMTTYPE=text/html:<p data-end="102" data-start="0"><strong data-end="100" data-start="25">Candle Making Workshop in McAllen &ndash\; Hosted by Selfies and More &amp\; Finari</strong></p>\n\n<p data-end="381" data-start="104">Get creative and unwind at our hands-on <strong data-end="170" data-start="144">Candle Making Workshop</strong> brought to you by <strong data-end="209" data-start="189">Selfies and More</strong> and <strong data-end="224" data-start="214">Finari</strong> in McAllen\, Texas! Learn how to craft your own custom-scented candle in a fun\, relaxed setting&mdash\;perfect for a unique night out or a little self-care treat.<br />\n<br data-end="476" data-start="473" />\n<strong data-end="488" data-start="479">Investment:</strong> $30.00 per person</p>\n\n<p data-end="648" data-is-last-node="" data-is-only-node="" data-start="507">Spaces are limited! For more information or to reserve your spot\, contact Denise at <strong data-end="620" data-start="591"><a class="cursor-pointer" data-end="618" data-start="593" rel="noopener">studio@selfiesandmore.com</a></strong>. Let your creativity shine!</p>\n
LOCATION:
UID:e.3411.1011
SEQUENCE:3
DTSTAMP:20260422T124946Z
URL:https://members.rgvhcc.org/events/details/candle-making-workshop-1011
END:VEVENT

END:VCALENDAR
