BEGIN:VCALENDAR
VERSION:2.0
PRODID:-//ChamberMaster//Event Calendar 2.0//EN
METHOD:PUBLISH
X-PUBLISHED-TTL:P3D
REFRESH-INTERVAL:P3D
CALSCALE:GREGORIAN
BEGIN:VEVENT
DTSTART:20230725T223000Z
DTEND:20230726T003000Z
X-MICROSOFT-CDO-ALLDAYEVENT:FALSE
SUMMARY:Cheers & Connections: Networking Mixer
DESCRIPTION:Join us for an evening of mingling and forging valuable connections at Cheers & Connections: Networking Mixer hosted by the RGV Hispanic Chamber in collaboration with Total Wine & More\n\n\n\nMark your calendars for an event that promises an unforgettable fusion of business\, pleasure\, and fruitful connections. See you there! #rgvhcc #network
X-ALT-DESC;FMTTYPE=text/html:Join us for an evening of mingling and forging valuable connections at Cheers &amp\; Connections: Networking Mixer hosted by the RGV Hispanic Chamber in collaboration with Total Wine &amp\; More<br />\n<br />\nMark your calendars for an event that promises an unforgettable fusion of business\, pleasure\, and fruitful connections. See you there! #rgvhcc #network<br />\n&nbsp\;
LOCATION:Inside Total Wine & Liquor
UID:e.3411.588
SEQUENCE:3
DTSTAMP:20260424T172857Z
URL:https://members.rgvhcc.org/events/details/cheers-connections-networking-mixer-588
END:VEVENT

END:VCALENDAR
