BEGIN:VCALENDAR
VERSION:2.0
PRODID:-//ChamberMaster//Event Calendar 2.0//EN
METHOD:PUBLISH
X-PUBLISHED-TTL:P3D
REFRESH-INTERVAL:P3D
CALSCALE:GREGORIAN
BEGIN:VEVENT
DTSTART:20260427T150000Z
DTEND:20260427T170000Z
X-MICROSOFT-CDO-ALLDAYEVENT:FALSE
SUMMARY:Como Emprender Desde Ceros
DESCRIPTION:C mo Emprender Desde Ceros: Una Pl tica de Inspiraci n y  xito\n\n Listo para dar el primer paso hacia tu propio negocio?  nete a nosotros para una charla inspiradora donde aprender s c mo iniciar desde cero\, superar desaf os y construir un camino hacia el  xito.\n\n  Con la participaci n de Ferdi Esquivel\, emprendedor y due o de negocio\, y Sandra Isela Mart nez\, experta en seguros\, quienes compartir n sus experiencias y consejos clave.\n\n  Lunes 27 de abril\n\n  10:00 AM\n\n  RGV Hispanic Chamber of Commerce\n\n  801 E Fern Ave\, McAllen\, TX\n\n \n\n   No te pierdas esta valiosa oportunidad para crecer y emprender!\n\n#RGVHCC #Emprendedores #RGV #Negocios #LatinosEnNegocios #Inspiraci n #McAllenTX
X-ALT-DESC;FMTTYPE=text/html:<p data-end="118" data-start="47">&#128640\; <strong data-end="116" data-start="50">C&oacute\;mo Emprender Desde Ceros: Una Pl&aacute\;tica de Inspiraci&oacute\;n y &Eacute\;xito</strong></p>\n\n<p data-end="319" data-start="120">&iquest\;Listo para dar el primer paso hacia tu propio negocio? &Uacute\;nete a nosotros para una charla inspiradora donde aprender&aacute\;s c&oacute\;mo iniciar desde cero\, superar desaf&iacute\;os y construir un camino hacia el &eacute\;xito.</p>\n\n<p data-end="497" data-start="321">&#127908\; Con la participaci&oacute\;n de Ferdi Esquivel\, emprendedor y due&ntilde\;o de negocio\, y Sandra Isela Mart&iacute\;nez\, experta en seguros\, quienes compartir&aacute\;n sus experiencias y consejos clave.</p>\n\n<p data-end="606" data-start="499">&#128197\; Lunes 27 de abril<br data-end="522" data-start="519" />\n&#128345\; 10:00 AM<br data-end="536" data-start="533" />\n&#128205\; RGV Hispanic Chamber of Commerce<br data-end="574" data-start="571" />\n&#128205\; 801 E Fern Ave\, McAllen\, TX</p>\n\n<p data-end="642" data-start="608">&nbsp\;</p>\n\n<p data-end="712" data-start="644">&#10024\; &iexcl\;No te pierdas esta valiosa oportunidad para crecer y emprender!</p>\n\n<p data-end="796" data-start="714">#RGVHCC #Emprendedores #RGV #Negocios #LatinosEnNegocios #Inspiraci&oacute\;n #McAllenTX</p>\n
LOCATION:
UID:e.3411.1177
SEQUENCE:3
DTSTAMP:20260424T230709Z
URL:https://members.rgvhcc.org/events/details/como-emprender-desde-ceros-1177
END:VEVENT

END:VCALENDAR
