BEGIN:VCALENDAR
VERSION:2.0
PRODID:-//ChamberMaster//Event Calendar 2.0//EN
METHOD:PUBLISH
X-PUBLISHED-TTL:P3D
REFRESH-INTERVAL:P3D
CALSCALE:GREGORIAN
BEGIN:VEVENT
DTSTART:20250828T150000Z
DTEND:20250828T170000Z
X-MICROSOFT-CDO-ALLDAYEVENT:FALSE
SUMMARY:Conflict Management - Leadership Empowerment Workshop - Sponsored by Atlas HVAC
DESCRIPTION:Throughout this training\, participants will be given the tools necessary in developing better ways to manage conflict and reap the positive benefits such as problem solving\, job satisfaction\, and higher team performance.
X-ALT-DESC;FMTTYPE=text/html:<span style="color: rgb(36\, 36\, 36)\; font-family: &quot\;Segoe UI&quot\;\, &quot\;Segoe UI Web (West European)&quot\;\, -apple-system\, BlinkMacSystemFont\, Roboto\, &quot\;Helvetica Neue&quot\;\, sans-serif\; font-size: 15px\;">Throughout this training\, participants will be given the tools necessary in developing better ways to manage conflict and reap the positive benefits such as problem solving\, job satisfaction\, and higher team performance.</span>
LOCATION:PNC Bank\, 3900 N 10th St\, McAllen\, TX 78501\, USA
UID:e.3411.956
SEQUENCE:3
DTSTAMP:20260422T113040Z
URL:https://members.rgvhcc.org/events/details/conflict-management-leadership-empowerment-workshop-sponsored-by-atlas-hvac-956
END:VEVENT

END:VCALENDAR
