BEGIN:VCALENDAR
VERSION:2.0
PRODID:-//ChamberMaster//Event Calendar 2.0//EN
METHOD:PUBLISH
X-PUBLISHED-TTL:P3D
REFRESH-INTERVAL:P3D
CALSCALE:GREGORIAN
BEGIN:VEVENT
DTSTART:20241204T173000Z
DTEND:20241204T193000Z
X-MICROSOFT-CDO-ALLDAYEVENT:FALSE
SUMMARY:Corporate Partner Holiday Luncheon
DESCRIPTION:RGV HISPANIC CHAMBER OF COMMERCE - CORPORATE PARTNER LUNCHEON\n\n \n\nAGENDA\n\n \n\n1. WELCOME       ..Edgar Ruiz\, Past Chair\n\n \n\n2 RGVHCC Mission & Objective  .Sarah Hammond\, Chair\n\n \n\n3 LUNCH\n\n \n\n4 REPORT ON 2024  ..Tom Castaneda\, Chair-Elect\n\n \n\n\n	VICE CHAIR OF GOVERNMENT AFFAIRS   JULIAN ALVAREZ\n	VICE CHAIR OF WOMEN'S INITIATIVES   DR. ESMERALDA ADAME\n	VICE CHAIR OF HEALTH   ALISA CASTANEDA\n	VICE CHAIR OF SMALL BUSINESS   VICTOR PEREZ\n	VICE CHAIR OF INTERNATIONAL AFFAIRS   ED VAZQUEZ\n	VICE CHAIR OF EDUCATION   DR. CARLOS MARGO\n\n\n \n\n5 MAJOR EVENTS 2025   .Cynthia M. Sakulenzki\, President/CEO\n\n \n\n6 CORPORATE PARTNER PACKET 2025\n\n \n\n7 CORPORATE COMMENTS\n\n \n\n8.  ADJOURN
X-ALT-DESC;FMTTYPE=text/html:<div><strong>RGV HISPANIC CHAMBER OF COMMERCE - CORPORATE PARTNER LUNCHEON</strong><br />\n&nbsp\;</div>\n\n<div><u><strong>AGENDA</strong></u></div>\n\n<div>&nbsp\;</div>\n\n<div>1.<span style="white-space:pre"> </span>WELCOME&hellip\;&hellip\;&hellip\;&hellip\;&hellip\;&hellip\;&hellip\;..Edgar Ruiz\, Past Chair</div>\n\n<div>&nbsp\;</div>\n\n<div>2<span style="white-space:pre"> </span>RGVHCC Mission &amp\; Objective&hellip\;&hellip\;.Sarah Hammond\, Chair</div>\n\n<div>&nbsp\;</div>\n\n<div>3<span style="white-space:pre"> </span>LUNCH</div>\n\n<div>&nbsp\;</div>\n\n<div>4<span style="white-space:pre"> </span>REPORT ON 2024&hellip\;&hellip\;..Tom Castaneda\, Chair-Elect</div>\n\n<div>&nbsp\;</div>\n\n<ul>\n	<li>VICE CHAIR OF GOVERNMENT AFFAIRS &ndash\; JULIAN ALVAREZ</li>\n	<li>VICE CHAIR OF WOMEN&rsquo\;S INITIATIVES &ndash\; DR. ESMERALDA ADAME</li>\n	<li>VICE CHAIR OF HEALTH &ndash\; ALISA CASTANEDA</li>\n	<li>VICE CHAIR OF SMALL BUSINESS &ndash\; VICTOR PEREZ</li>\n	<li>VICE CHAIR OF INTERNATIONAL AFFAIRS &ndash\; ED VAZQUEZ</li>\n	<li>VICE CHAIR OF EDUCATION &ndash\; DR. CARLOS MARGO</li>\n</ul>\n\n<div>&nbsp\;</div>\n\n<div>5<span style="white-space:pre"> </span>MAJOR EVENTS 2025&hellip\;&hellip\;&hellip\;.Cynthia M. Sakulenzki\, President/CEO</div>\n\n<div>&nbsp\;</div>\n\n<div>6<span style="white-space:pre"> </span>CORPORATE PARTNER PACKET 2025</div>\n\n<div>&nbsp\;</div>\n\n<div>7<span style="white-space:pre"> </span>CORPORATE COMMENTS</div>\n\n<div>&nbsp\;</div>\n\n<div>8.<span style="white-space:pre"> </span> ADJOURN</div>\n
LOCATION:TOP GOLF PHARR
UID:e.3411.854
SEQUENCE:3
DTSTAMP:20260423T024953Z
URL:https://members.rgvhcc.org/events/details/corporate-partner-holiday-luncheon-854
END:VEVENT

END:VCALENDAR
