BEGIN:VCALENDAR
VERSION:2.0
PRODID:-//ChamberMaster//Event Calendar 2.0//EN
METHOD:PUBLISH
X-PUBLISHED-TTL:P3D
REFRESH-INTERVAL:P3D
CALSCALE:GREGORIAN
BEGIN:VEVENT
DTSTART:20250123T000000Z
DTEND:20250123T050000Z
X-MICROSOFT-CDO-ALLDAYEVENT:FALSE
SUMMARY:Corporate Super Bowl Tournament
DESCRIPTION:Strike up some fun at the RGVHCC Corporate Super Bowl Tournament!   Gather your team of five and join us at Incredibowl in Mission\, TX\, for an exciting day of bowling\, networking\, and team spirit.\n\n \n\n  Rules:\n\n\n	Minimum of 1 female player per team\n	Pre-registration required
X-ALT-DESC;FMTTYPE=text/html:<p>&#127923\; Strike up some fun at the RGVHCC Corporate Super Bowl Tournament! &#127942\; Gather your team of five and join us at Incredibowl in Mission\, TX\, for an exciting day of bowling\, networking\, and team spirit.<br />\n&nbsp\;</p>\n\n<p>&#128203\; Rules:</p>\n\n<ul>\n	<li>Minimum of 1 female player per team</li>\n	<li>Pre-registration required</li>\n</ul>\n
LOCATION:Incredibowl
UID:e.3411.810
SEQUENCE:3
DTSTAMP:20260422T232903Z
URL:https://members.rgvhcc.org/events/details/corporate-super-bowl-tournament-810
END:VEVENT

END:VCALENDAR
