BEGIN:VCALENDAR
VERSION:2.0
PRODID:-//ChamberMaster//Event Calendar 2.0//EN
METHOD:PUBLISH
X-PUBLISHED-TTL:P3D
REFRESH-INTERVAL:P3D
CALSCALE:GREGORIAN
BEGIN:VEVENT
DTSTART:20240604T163000Z
DTEND:20240604T180000Z
X-MICROSOFT-CDO-ALLDAYEVENT:FALSE
SUMMARY:Credit Breakdown with Big Joe
DESCRIPTION:Are you ready to take control of your debt? Join us for an informative and empowering discussion where we dive into the world of credit scores\, managing debt\, and dealing with creditors
X-ALT-DESC;FMTTYPE=text/html:Are you ready to take control of your debt? Join us for an informative and empowering discussion where we dive into the world of credit scores\, managing debt\, and dealing with creditors&nbsp\;&nbsp\;&nbsp\;&nbsp\;
LOCATION:RGV Hispanic Chamber of Commerce Large Conference Room
UID:e.3411.777
SEQUENCE:3
DTSTAMP:20260424T024854Z
URL:https://members.rgvhcc.org/events/details/credit-breakdown-with-big-joe-777
END:VEVENT

END:VCALENDAR
