BEGIN:VCALENDAR
VERSION:2.0
PRODID:-//ChamberMaster//Event Calendar 2.0//EN
METHOD:PUBLISH
X-PUBLISHED-TTL:P3D
REFRESH-INTERVAL:P3D
CALSCALE:GREGORIAN
BEGIN:VEVENT
DTSTART:20250711T213000Z
DTEND:20250711T230000Z
X-MICROSOFT-CDO-ALLDAYEVENT:FALSE
SUMMARY:Crystal Healing Massages Premiering at Selfies & More Market
DESCRIPTION:Experience relaxation and good vibes at the premiere of Crystal Healing Massages during the next Selfies & More Market! For just $5 entry\, you'll receive access to this unique event plus a raffle ticket for a chance to win exciting prizes.\n\nExplore the store\, sample new products\, and enjoy the calming energy of crystal healing in a fun\, welcoming space.\n\nRSVP by July 10 to secure your spot!\n\nLocation: Selfies and More\, McAllen\, TX\n\nFor more information\, contact studio@selfiesandmore.com or call (956) 207-8696. Don't miss this soothing and one-of-a-kind experience!
X-ALT-DESC;FMTTYPE=text/html:<p data-end="354" data-start="94">Experience relaxation and good vibes at the premiere of <strong data-end="178" data-start="150">Crystal Healing Massages</strong> during the next <strong data-end="220" data-start="195">Selfies &amp\; More Market</strong>! For just <strong data-end="246" data-start="234">$5 entry</strong>\, you&rsquo\;ll receive access to this unique event <strong data-end="315" data-start="291">plus a raffle ticket</strong> for a chance to win exciting prizes.</p>\n\n<p data-end="472" data-start="356">Explore the store\, sample new products\, and enjoy the calming energy of crystal healing in a fun\, welcoming space.</p>\n\n<p data-end="569" data-start="474"><strong data-end="497" data-start="478">RSVP by July 10</strong> to secure your spot!<br data-end="521" data-start="518" />\n<strong data-end="537" data-start="524">Location:</strong> Selfies and More\, McAllen\, TX</p>\n\n<p data-end="713" data-is-last-node="" data-is-only-node="" data-start="571">For more information\, contact <strong data-end="630" data-start="601"><a class="cursor-pointer" data-end="628" data-start="603" rel="noopener">studio@selfiesandmore.com</a></strong> or call <strong data-end="657" data-start="639">(956) 207-8696</strong>. Don&rsquo\;t miss this soothing and one-of-a-kind experience!</p>\n
LOCATION:
UID:e.3411.1013
SEQUENCE:3
DTSTAMP:20260422T125440Z
URL:https://members.rgvhcc.org/events/details/crystal-healing-massages-premiering-at-selfies-more-market-1013
END:VEVENT

END:VCALENDAR
