BEGIN:VCALENDAR
VERSION:2.0
PRODID:-//ChamberMaster//Event Calendar 2.0//EN
METHOD:PUBLISH
X-PUBLISHED-TTL:P3D
REFRESH-INTERVAL:P3D
CALSCALE:GREGORIAN
BEGIN:VEVENT
DTSTART:20250404T170000Z
DTEND:20250404T190000Z
X-MICROSOFT-CDO-ALLDAYEVENT:FALSE
SUMMARY:Curso de Introduccion Facebook Ads
DESCRIPTION:Descubre c mo utilizar Facebook Ads para promocionar tus productos\, servicios o proyectos de manera efectiva. En este curso pr ctico aprender s paso a paso a dise ar campa as publicitarias desde cero\, segmentar correctamente a tu audiencia ideal\, redactar copys atractivos\, y analizar los resultados de tus anuncios. Ya seas emprendedor\, creador de contenido o simplemente quieras mejorar tu presencia en redes sociales\, este curso te dar  las herramientas necesarias para aprovechar el poder de la publicidad en Facebook.
X-ALT-DESC;FMTTYPE=text/html:Descubre c&oacute\;mo utilizar Facebook Ads para promocionar tus productos\, servicios o proyectos de manera efectiva. En este curso pr&aacute\;ctico aprender&aacute\;s paso a paso a dise&ntilde\;ar campa&ntilde\;as publicitarias desde cero\, segmentar correctamente a tu audiencia ideal\, redactar copys atractivos\, y analizar los resultados de tus anuncios. Ya seas emprendedor\, creador de contenido o simplemente quieras mejorar tu presencia en redes sociales\, este curso te dar&aacute\; las herramientas necesarias para aprovechar el poder de la publicidad en Facebook.
LOCATION:Online
UID:e.3411.940
SEQUENCE:3
DTSTAMP:20260422T175624Z
URL:https://members.rgvhcc.org/events/details/curso-de-introduccion-facebook-ads-940
END:VEVENT

END:VCALENDAR
