BEGIN:VCALENDAR
VERSION:2.0
PRODID:-//ChamberMaster//Event Calendar 2.0//EN
METHOD:PUBLISH
X-PUBLISHED-TTL:P3D
REFRESH-INTERVAL:P3D
CALSCALE:GREGORIAN
BEGIN:VEVENT
DTSTART:20251211T200000Z
DTEND:20251211T210000Z
X-MICROSOFT-CDO-ALLDAYEVENT:FALSE
SUMMARY:Cómo Fijar Precios Rentables: Guía Práctica para Pequeñas Empresas
DESCRIPTION:Fijar el precio adecuado es una de las decisiones m s importantes que puede tomar una peque a empresa\, pero no tiene por qu  ser complicado.\n\n\n\nEn esta sesi n pr ctica y din mica\, los participantes aprender n a fijar el precio de sus productos o servicios de manera que cubran los costos\, reflejen el valor y fomenten la rentabilidad a largo plazo. Tanto si est s empezando como si buscas perfeccionar tu estrategia de precios\, esta sesi n te proporcionar  las herramientas y la confianza necesarias para fijar precios con prop sito.\n\n\n\nPuntos destacados de la sesi n:\n\n	Calcula tu punto de equilibrio\n	Establece precios que te permitan alcanzar tus objetivos de rentabilidad Evita errores comunes en la fijaci n de precios\n	Elige la estrategia de precios adecuada\n\n\n\nPresentado por el SBDC de UTRGV con el apoyo promocional de socios de recursos participantes\, incluyendo: Alton Economic Development Corporation\; Brownsville Chamber of Commerce\; Consulate of Mexico in McAllen\; Donna Economic Development Corporation\; Economic Development Corporation of Weslaco\; Edinburg Chamber of Commerce\; Elsa Economic Development Corporation\; Greater Alton Chamber of Commerce\; Greater Pharr Chamber of Commerce\; Greater Mission Chamber of Commerce\; Harlingen Economic Development Corporation\; Hidalgo Economic Development Corporation\; Palmview Chamber of Commerce\; Rio Grande City Economic Development Corporation\; Rio Grande City Greater Chamber of Commerce\; Rio Grande City Public Library\; Rio Grande Valley Hispanic Chamber of Commerce\; San Benito Chamber of Commerce\; San Juan Economic Development Corporation\; South Padre Island Chamber of Commerce\; Starr County Industrial Foundation\; and Weslaco Area Chamber of Commerce & Visitors Center.
X-ALT-DESC;FMTTYPE=text/html:<span style="font-size:14px\;"><span style="font-family:arial\;">Fijar el precio adecuado es una de las decisiones m&aacute\;s importantes que puede tomar una peque&ntilde\;a empresa\, pero no tiene por qu&eacute\; ser complicado.<br />\n<br />\nEn esta sesi&oacute\;n pr&aacute\;ctica y din&aacute\;mica\, los participantes aprender&aacute\;n a fijar el precio de sus productos o servicios de manera que cubran los costos\, reflejen el valor y fomenten la rentabilidad a largo plazo. Tanto si est&aacute\;s empezando como si buscas perfeccionar tu estrategia de precios\, esta sesi&oacute\;n te proporcionar&aacute\; las herramientas y la confianza necesarias para fijar precios con prop&oacute\;sito.<br />\n<br />\nPuntos destacados de la sesi&oacute\;n:</span></span>\n<ul>\n	<li><span style="font-size:14px\;"><span style="font-family:arial\;">Calcula tu punto de equilibrio</span></span></li>\n	<li><span style="font-size:14px\;"><span style="font-family:arial\;">Establece precios que te permitan alcanzar tus objetivos de rentabilidad Evita errores comunes en la fijaci&oacute\;n de precios</span></span></li>\n	<li><span style="font-size:14px\;"><span style="font-family:arial\;">Elige la estrategia de precios adecuada</span></span></li>\n</ul>\n<br />\n<span style="font-size:14px\;"><span style="font-family:arial\;">Presentado por el SBDC de UTRGV con el apoyo promocional de socios de recursos participantes\, incluyendo: Alton Economic Development Corporation\; Brownsville Chamber of Commerce\; Consulate of Mexico in McAllen\; Donna Economic Development Corporation\; Economic Development Corporation of Weslaco\; Edinburg Chamber of Commerce\; Elsa Economic Development Corporation\; Greater Alton Chamber of Commerce\; Greater Pharr Chamber of Commerce\; Greater Mission Chamber of Commerce\; Harlingen Economic Development Corporation\; Hidalgo Economic Development Corporation\; Palmview Chamber of Commerce\; Rio Grande City Economic Development Corporation\; Rio Grande City Greater Chamber of Commerce\; Rio Grande City Public Library\; Rio Grande Valley Hispanic Chamber of Commerce\; San Benito Chamber of Commerce\; San Juan Economic Development Corporation\; South Padre Island Chamber of Commerce\; Starr County Industrial Foundation\; and Weslaco Area Chamber of Commerce &amp\; Visitors Center.</span></span>
LOCATION:No fee\, register here: https://utrgv.zoom.us/webinar/register/6617617695890/WN_kvn7be_OREeDAAsxSIO6iw
UID:e.3411.1097
SEQUENCE:3
DTSTAMP:20260422T050345Z
URL:https://members.rgvhcc.org/events/details/c&#243;mo-fijar-precios-rentables-gu&#237;a-pr&#225;ctica-para-peque&#241;as-empresas-1097
END:VEVENT

END:VCALENDAR
