BEGIN:VCALENDAR
VERSION:2.0
PRODID:-//ChamberMaster//Event Calendar 2.0//EN
METHOD:PUBLISH
X-PUBLISHED-TTL:P3D
REFRESH-INTERVAL:P3D
CALSCALE:GREGORIAN
BEGIN:VEVENT
DTSTART:20241114T160000Z
DTEND:20241114T170000Z
X-MICROSOFT-CDO-ALLDAYEVENT:FALSE
SUMMARY:Dealing with Difficult People: Communication Styles and Conflict Resolution
DESCRIPTION:The modern workplace continues to change\, impacted by multiple generations and a strong emphasis on individualization. How do you deal with all the differences? Do you know what your communication style is? Do you think about the communication style of others? This workshop identifies behavioral differences and styles of communication offering strategies to turn conflict into cooperation. The workshop will cover:   Who are Difficult People?   Differences   Behavioral Profiles   Communication Styles   Ways to deal with Difficult People   Strategies and how to apply them This webinar is presented by Deirdre Pattillo\, SPHR\, SHRM-SCP - UTSA SBDC Center for Government Contracting. (See bio below.) *Hosted by the UTRGV SBDC with promotional support from participating resource partners\, including the Brownsville Chamber of Commerce\; Consulate of Mexico in McAllen\; Economic Development Corporation of Weslaco\; Edinburg Chamber of Commerce\; Elsa Economic Development Corporation\; Greater Alton Chamber of Commerce\; Greater Pharr Chamber of Commerce\; Greater Mission Chamber of Commerce\; Harlingen Economic Development Corporation\; Hidalgo Economic Development Corporation\; Palmview Chamber of Commerce\; Rio Grande City Economic Development Corporation\; Rio Grande City Greater Chamber of Commerce\; Rio Grande City Public Library\; Rio Grande Valley Hispanic Chamber of Commerce\; San Benito Chamber of Commerce\; South Padre Island Chamber of Commerce\; Starr County Industrial Foundation\; and Weslaco Area Chamber of Commerce & Visitors Center.
X-ALT-DESC;FMTTYPE=text/html:<span style="color: rgb(35\, 35\, 51)\; font-family: &quot\;Helvetica Neue&quot\;\, Helvetica\, Arial\, sans-serif\; font-size: 14px\; white-space-collapse: preserve\; background-color: rgb(255\, 255\, 255)\;">The modern workplace continues to change\, impacted by multiple generations and a strong emphasis on individualization. How do you deal with all the differences? Do you know what your communication style is? Do you think about the communication style of others? This workshop identifies behavioral differences and styles of communication offering strategies to turn conflict into cooperation. The workshop will cover: &bull\; Who are Difficult People? &ndash\; Differences &ndash\; Behavioral Profiles &ndash\; Communication Styles &bull\; Ways to deal with Difficult People &ndash\; Strategies and how to apply them This webinar is presented by Deirdre Pattillo\, SPHR\, SHRM-SCP - UTSA SBDC Center for Government Contracting. (See bio below.) *Hosted by the UTRGV SBDC with promotional support from participating resource partners\, including the Brownsville Chamber of Commerce\; Consulate of Mexico in McAllen\; Economic Development Corporation of Weslaco\; Edinburg Chamber of Commerce\; Elsa Economic Development Corporation\; Greater Alton Chamber of Commerce\; Greater Pharr Chamber of Commerce\; Greater Mission Chamber of Commerce\; Harlingen Economic Development Corporation\; Hidalgo Economic Development Corporation\; Palmview Chamber of Commerce\; Rio Grande City Economic Development Corporation\; Rio Grande City Greater Chamber of Commerce\; Rio Grande City Public Library\; Rio Grande Valley Hispanic Chamber of Commerce\; San Benito Chamber of Commerce\; South Padre Island Chamber of Commerce\; Starr County Industrial Foundation\; and Weslaco Area Chamber of Commerce &amp\; Visitors Center.</span>
LOCATION:WEBINAR REGISTRATION: https://utrgv.zoom.us/webinar/register/4417303027028/WN_AJx34k2qS9i6lfdodoQozw#/registration
UID:e.3411.861
SEQUENCE:3
DTSTAMP:20260423T090706Z
URL:https://members.rgvhcc.org/events/details/dealing-with-difficult-people-communication-styles-and-conflict-resolution-861
END:VEVENT

END:VCALENDAR
