BEGIN:VCALENDAR
VERSION:2.0
PRODID:-//ChamberMaster//Event Calendar 2.0//EN
METHOD:PUBLISH
X-PUBLISHED-TTL:P3D
REFRESH-INTERVAL:P3D
CALSCALE:GREGORIAN
BEGIN:VEVENT
DTSTART;VALUE=DATE:20250118
DTEND;VALUE=DATE:20250119
TRANSP:TRANSPARENT
X-MICROSOFT-CDO-ALLDAYEVENT:TRUE
SUMMARY:Divine School for Healthcare Professionals presents SCRUBS AND STRIDES
DESCRIPTION:Deadline to register& receive a t-shirt is January 8th\, 2025.\n\n\n\nAwards will be given to the first male and female finishers in each age group for the 5k run.\n\n\n\nSponsorship opportunities available
X-ALT-DESC;FMTTYPE=text/html:<span style="color: rgb(51\, 51\, 51)\; font-family: sans-serif\, Arial\, Verdana\, &quot\;Trebuchet MS&quot\;\; font-size: 13px\; background-color: rgb(255\, 255\, 255)\;">Deadline to register&amp\; receive a t-shirt is January 8th\, 2025.</span><br />\n<br style="color: rgb(51\, 51\, 51)\; font-family: sans-serif\, Arial\, Verdana\, &quot\;Trebuchet MS&quot\;\; font-size: 13px\;" />\n<span style="color: rgb(51\, 51\, 51)\; font-family: sans-serif\, Arial\, Verdana\, &quot\;Trebuchet MS&quot\;\; font-size: 13px\; background-color: rgb(255\, 255\, 255)\;">Awards will be given to the first male and female finishers in each age group for the 5k run.</span><br />\n<br style="color: rgb(51\, 51\, 51)\; font-family: sans-serif\, Arial\, Verdana\, &quot\;Trebuchet MS&quot\;\; font-size: 13px\;" />\n<span style="color: rgb(51\, 51\, 51)\; font-family: sans-serif\, Arial\, Verdana\, &quot\;Trebuchet MS&quot\;\; font-size: 13px\; background-color: rgb(255\, 255\, 255)\;">Sponsorship opportunities available</span>
LOCATION:Paseo De La Resaca Trail\, Brownsville Event Center
UID:e.3411.896
SEQUENCE:3
DTSTAMP:20260422T233333Z
URL:https://members.rgvhcc.org/events/details/divine-school-for-healthcare-professionals-presents-scrubs-and-strides-896
END:VEVENT

END:VCALENDAR
