BEGIN:VCALENDAR
VERSION:2.0
PRODID:-//ChamberMaster//Event Calendar 2.0//EN
METHOD:PUBLISH
X-PUBLISHED-TTL:P3D
REFRESH-INTERVAL:P3D
CALSCALE:GREGORIAN
BEGIN:VEVENT
DTSTART:20250821T190000Z
DTEND:20250821T200000Z
X-MICROSOFT-CDO-ALLDAYEVENT:FALSE
SUMMARY:Do You Have What It Takes to Be a Small Business Owner?
DESCRIPTION:Discover what it takes to thrive in the world of entrepreneurship! This session will guide participants through key areas of self-assessment and reflection\, helping them determine their readiness for the entrepreneurial journey. Session highlights:   Understand the traits and thinking patterns of successful entrepreneurs.   Evaluate your comfort level with uncertainty and decision-making under pressure.   Consider the personal and professional time investment required.   Review your financial situation and planning strategies.   Reflect on your ability to pivot and respond to change.   Identify strengths and areas for growth in leading others.   Learn how to create a network of mentors\, peers\, and resources. *Presented by the UTRGV SBDC with promotional support from participating resource partners\, including the Alton Economic Development Corporation\; Brownsville Chamber of Commerce\; Consulate of Mexico in McAllen\; Economic Development Corporation of Weslaco\; Edinburg Chamber of Commerce\; Elsa Economic Development Corporation\; Greater Alton Chamber of Commerce\; Greater Pharr Chamber of Commerce\; Greater Mission Chamber of Commerce\; Harlingen Economic Development Corporation\; Hidalgo Economic Development Corporation\; Palmview Chamber of Commerce\; Rio Grande City Economic Development Corporation\; Rio Grande City Greater Chamber of Commerce\; Rio Grande City Public Library\; Rio Grande Valley Hispanic Chamber of Commerce\; San Benito Chamber of Commerce\; South Padre Island Chamber of Commerce\; Starr County Industrial Foundation\; and Weslaco Area Chamber of Commerce & Visitors Center.\n\n\n\nSign Up: https://utrgv.zoom.us/webinar/register/7917532961417/WN_RmYyJ-H6REm_sdBGH29E4A
X-ALT-DESC;FMTTYPE=text/html:<span style="color: rgb(35\, 35\, 51)\; font-family: &quot\;Helvetica Neue&quot\;\, Helvetica\, Arial\, sans-serif\; font-size: 14px\; white-space-collapse: preserve\;">Discover what it takes to thrive in the world of entrepreneurship! This session will guide participants through key areas of self-assessment and reflection\, helping them determine their readiness for the entrepreneurial journey. Session highlights: &bull\; Understand the traits and thinking patterns of successful entrepreneurs. &bull\; Evaluate your comfort level with uncertainty and decision-making under pressure. &bull\; Consider the personal and professional time investment required. &bull\; Review your financial situation and planning strategies. &bull\; Reflect on your ability to pivot and respond to change. &bull\; Identify strengths and areas for growth in leading others. &bull\; Learn how to create a network of mentors\, peers\, and resources. *Presented by the UTRGV SBDC with promotional support from participating resource partners\, including the Alton Economic Development Corporation\; Brownsville Chamber of Commerce\; Consulate of Mexico in McAllen\; Economic Development Corporation of Weslaco\; Edinburg Chamber of Commerce\; Elsa Economic Development Corporation\; Greater Alton Chamber of Commerce\; Greater Pharr Chamber of Commerce\; Greater Mission Chamber of Commerce\; Harlingen Economic Development Corporation\; Hidalgo Economic Development Corporation\; Palmview Chamber of Commerce\; Rio Grande City Economic Development Corporation\; Rio Grande City Greater Chamber of Commerce\; Rio Grande City Public Library\; Rio Grande Valley Hispanic Chamber of Commerce\; San Benito Chamber of Commerce\; South Padre Island Chamber of Commerce\; Starr County Industrial Foundation\; and Weslaco Area Chamber of Commerce &amp\; Visitors Center.</span><br />\n<br />\nSign Up:<a href="https://utrgv.zoom.us/webinar/register/7917532961417/WN_RmYyJ-H6REm_sdBGH29E4A">&nbsp\;https://utrgv.zoom.us/webinar/register/7917532961417/WN_RmYyJ-H6REm_sdBGH29E4A</a>
LOCATION:
UID:e.3411.1030
SEQUENCE:3
DTSTAMP:20260422T113321Z
URL:https://members.rgvhcc.org/events/details/do-you-have-what-it-takes-to-be-a-small-business-owner-1030
END:VEVENT

END:VCALENDAR
