BEGIN:VCALENDAR
VERSION:2.0
PRODID:-//ChamberMaster//Event Calendar 2.0//EN
METHOD:PUBLISH
X-PUBLISHED-TTL:P3D
REFRESH-INTERVAL:P3D
CALSCALE:GREGORIAN
BEGIN:VEVENT
DTSTART:20251101T150000Z
DTEND:20251101T180000Z
X-MICROSOFT-CDO-ALLDAYEVENT:FALSE
SUMMARY:Día de Los Muertos Celebration with Funeraria del Angel Palm Valley
DESCRIPTION:Join Funeraria del Angel Palm Valley in honoring life\, love\, and tradition at our annual D a de Los Muertos Celebration   a cherished community event that brings families and friends together to remember loved ones and celebrate their enduring legacy.\n\n\n\nEach year\, this vibrant cultural gathering welcomes 300 500 guests and features beautiful altars\, music\, and moments of remembrance that honor our rich heritage and community spirit.
X-ALT-DESC;FMTTYPE=text/html:<span style="font-size:14px\;"><span style="font-family:arial\;">Join <em data-end="101" data-start="68">Funeraria del Angel Palm Valley</em> in honoring life\, love\, and tradition at our <strong data-end="188" data-start="147">annual D&iacute\;a de Los Muertos Celebration</strong> &mdash\; a cherished community event that brings families and friends together to remember loved ones and celebrate their enduring legacy.<br />\n<br />\nEach year\, this vibrant cultural gathering welcomes 300&ndash\;500 guests and features beautiful altars\, music\, and moments of remembrance that honor our rich heritage and community spirit.</span></span><br />\n&nbsp\;
LOCATION:
UID:e.3411.1083
SEQUENCE:3
DTSTAMP:20260422T080510Z
URL:https://members.rgvhcc.org/events/details/d&#237;a-de-los-muertos-celebration-with-funeraria-del-angel-palm-valley-1083
END:VEVENT

END:VCALENDAR
