BEGIN:VCALENDAR
VERSION:2.0
PRODID:-//ChamberMaster//Event Calendar 2.0//EN
METHOD:PUBLISH
X-PUBLISHED-TTL:P3D
REFRESH-INTERVAL:P3D
CALSCALE:GREGORIAN
BEGIN:VEVENT
DTSTART:20250420T160000Z
DTEND:20250420T180000Z
X-MICROSOFT-CDO-ALLDAYEVENT:FALSE
SUMMARY:Easter Sunday Brunch at Casa de Palmas
DESCRIPTION:
X-ALT-DESC;FMTTYPE=text/html:
LOCATION:
UID:e.3411.948
SEQUENCE:3
DTSTAMP:20260422T180036Z
URL:https://members.rgvhcc.org/events/details/easter-sunday-brunch-at-casa-de-palmas-948
END:VEVENT

END:VCALENDAR
