BEGIN:VCALENDAR
VERSION:2.0
PRODID:-//ChamberMaster//Event Calendar 2.0//EN
METHOD:PUBLISH
X-PUBLISHED-TTL:P3D
REFRESH-INTERVAL:P3D
CALSCALE:GREGORIAN
BEGIN:VEVENT
DTSTART;VALUE=DATE:20250308
DTEND;VALUE=DATE:20250309
TRANSP:TRANSPARENT
X-MICROSOFT-CDO-ALLDAYEVENT:TRUE
SUMMARY:Eddie’s Safari Run
DESCRIPTION:South Texas Health System Children's will be hosting its 3rd Annual Eddie's Safari Run on Saturday\, March 8\, 2025. The event is aimed at educating children on the importance of leading a healthy lifestyle and encouraging to exercise and eat well\, habits that they'll hopefully carry into adulthood. All proceeds to benefit South Texas Juvenile Diabetes Association.
X-ALT-DESC;FMTTYPE=text/html:<p style="box-sizing: border-box\; margin: 0px\; padding: 0px 0px 1em\; border: 0px\; outline: 0px\; font-size: 18px\; text-size-adjust: 100%\; vertical-align: baseline\; background: rgb(255\, 255\, 255)\; font-family: Questrial\, Helvetica\, Arial\, Lucida\, sans-serif\;"><strong><span style="font-family:calibri\,sans-serif\;">South Texas Health System Children&rsquo\;s</span></strong><span style="font-family:calibri\,sans-serif\;">&nbsp\;will be hosting its 3rd Annual&nbsp\;<strong>Eddie&rsquo\;s Safari Run</strong>&nbsp\;on Saturday\, March 8\, 2025. The event is aimed at educating children on the importance of leading a healthy lifestyle and encouraging to exercise and eat well\, habits that they&rsquo\;ll hopefully carry into adulthood. All proceeds to benefit South Texas Juvenile Diabetes Association.</span></p>\n\n<div>&nbsp\;</div>\n\n<h4 style="box-sizing: border-box\; margin: 0px\; padding: 0px 0px 10px\; border: 0px\; outline: 0px\; font-size: 20px\; text-size-adjust: 100%\; vertical-align: baseline\; background: rgb(255\, 255\, 255)\; line-height: 1.6em\; font-family: Questrial\, Helvetica\, Arial\, Lucida\, sans-serif\; letter-spacing: 1px\; color: rgb(61\, 49\, 136) !important\;">&nbsp\;</h4>\n
LOCATION:MAIN PARKING LOT South Texas Health System Children's 1102 W. Trenton Rd. Edinburg\, TX 78539
UID:e.3411.921
SEQUENCE:3
DTSTAMP:20260422T194758Z
URL:https://members.rgvhcc.org/events/details/eddie-s-safari-run-03-08-2025-921
END:VEVENT

END:VCALENDAR
