BEGIN:VCALENDAR
VERSION:2.0
PRODID:-//ChamberMaster//Event Calendar 2.0//EN
METHOD:PUBLISH
X-PUBLISHED-TTL:P3D
REFRESH-INTERVAL:P3D
CALSCALE:GREGORIAN
BEGIN:VEVENT
DTSTART;VALUE=DATE:20240316
DTEND;VALUE=DATE:20240317
TRANSP:TRANSPARENT
X-MICROSOFT-CDO-ALLDAYEVENT:TRUE
SUMMARY:Eddie’s Safari Run
DESCRIPTION:South Texas Health System  Children's invites you to take part in our 2nd Annual Eddy's Safari Run on Saturday\, March 16\, 2024!\n\nGear up for a special adventure and demonstrate your physical fitness by participating in our safari run fit for all ages!\n\nAll proceeds benefit a local charity.\n\nREGISTRATION:\n\n\n	Early registration ends February 16\n	Registration deadline: March 14 at noon\n	Registration is limited\, so register early\; online registration only\n\n\nAWARD CATEGORIES: 1st\, 2nd\, 3rd place will be recognized in each age division (Male & Female).\n\nAdults: 13-14\, 15-16\, 17-19\, 20-29\, 30-39\, 40-49\, 50-59\, 60 and up\n\nKids: 5-7\, 8-9\, 10-12
X-ALT-DESC;FMTTYPE=text/html:<p style="box-sizing: border-box\; margin: 0px\; padding: 0px 0px 1em\; border: 0px\; outline: 0px\; font-size: 18px\; text-size-adjust: 100%\; vertical-align: baseline\; background: rgb(255\, 255\, 255)\; font-family: Questrial\, Helvetica\, Arial\, Lucida\, sans-serif\;"><span style="box-sizing: border-box\; margin: 0px\; padding: 0px\; border: 0px\; outline: 0px\; text-size-adjust: 100%\; vertical-align: baseline\; background: transparent\; font-weight: 700\;">South Texas Health System&reg\; Children&rsquo\;s</span>&nbsp\;invites you to take part in our 2nd Annual Eddy&rsquo\;s Safari Run on Saturday\, March 16\, 2024!</p>\n\n<p style="box-sizing: border-box\; margin: 0px\; padding: 0px 0px 1em\; border: 0px\; outline: 0px\; font-size: 18px\; text-size-adjust: 100%\; vertical-align: baseline\; background: rgb(255\, 255\, 255)\; font-family: Questrial\, Helvetica\, Arial\, Lucida\, sans-serif\;">Gear up for a special adventure and demonstrate your physical fitness by participating in our safari run fit for all ages!</p>\n\n<p style="box-sizing: border-box\; margin: 0px\; padding: 0px 0px 1em\; border: 0px\; outline: 0px\; font-size: 18px\; text-size-adjust: 100%\; vertical-align: baseline\; background: rgb(255\, 255\, 255)\; font-family: Questrial\, Helvetica\, Arial\, Lucida\, sans-serif\;">All proceeds benefit a local charity.</p>\n\n<h4 style="box-sizing: border-box\; margin: 0px\; padding: 0px 0px 10px\; border: 0px\; outline: 0px\; font-size: 20px\; text-size-adjust: 100%\; vertical-align: baseline\; background: rgb(255\, 255\, 255)\; line-height: 1.6em\; font-family: Questrial\, Helvetica\, Arial\, Lucida\, sans-serif\; letter-spacing: 1px\; color: rgb(61\, 49\, 136) !important\;">REGISTRATION:</h4>\n\n<ul style="box-sizing: border-box\; margin: 0px\; padding: 0px 0px 1em 1em\; border: 0px\; outline: 0px\; font-size: 18px\; text-size-adjust: 100%\; vertical-align: baseline\; background: rgb(255\, 255\, 255)\; list-style-position: initial\; list-style-image: initial\; line-height: 26px\; font-family: Questrial\, Helvetica\, Arial\, Lucida\, sans-serif\;">\n	<li style="box-sizing: border-box\; margin: 0px\; padding: 0px\; border: 0px\; outline: 0px\; text-size-adjust: 100%\; vertical-align: baseline\; background: transparent\;">Early registration ends February 16</li>\n	<li style="box-sizing: border-box\; margin: 0px\; padding: 0px\; border: 0px\; outline: 0px\; text-size-adjust: 100%\; vertical-align: baseline\; background: transparent\;">Registration deadline: March 14 at noon</li>\n	<li style="box-sizing: border-box\; margin: 0px\; padding: 0px\; border: 0px\; outline: 0px\; text-size-adjust: 100%\; vertical-align: baseline\; background: transparent\;">Registration is limited\, so register early\; online registration only</li>\n</ul>\n\n<p style="box-sizing: border-box\; margin: 0px\; padding: 0px 0px 1em\; border: 0px\; outline: 0px\; font-size: 18px\; text-size-adjust: 100%\; vertical-align: baseline\; background: rgb(255\, 255\, 255)\; font-family: Questrial\, Helvetica\, Arial\, Lucida\, sans-serif\;">AWARD CATEGORIES: 1st\, 2nd\, 3rd place will be recognized in each age division (Male &amp\; Female).<br style="box-sizing: border-box\;" />\nAdults: 13-14\, 15-16\, 17-19\, 20-29\, 30-39\, 40-49\, 50-59\, 60 and up<br style="box-sizing: border-box\;" />\nKids: 5-7\, 8-9\, 10-12</p>\n\n<h4 style="box-sizing: border-box\; margin: 0px\; padding: 0px 0px 10px\; border: 0px\; outline: 0px\; font-size: 20px\; text-size-adjust: 100%\; vertical-align: baseline\; background: rgb(255\, 255\, 255)\; line-height: 1.6em\; font-family: Questrial\, Helvetica\, Arial\, Lucida\, sans-serif\; letter-spacing: 1px\; color: rgb(61\, 49\, 136) !important\;">&nbsp\;</h4>\n
LOCATION:PACKET PICK UP: Friday\, March 15th from 9 am 5pm (closed from 12 -1pm) STHS Children's Main Lobby\, 1102 W. Trenton Rd. Edinburg\, TX 78539 Packet pick up will also be available for late check-in on Saturday\, March 16 from 6 a.m. to 7:30 a.m. in STHS Children's Main Parking Lot located at 1102 W. Trenton Rd. Edinburg\, TX 78539.
UID:e.3411.730
SEQUENCE:3
DTSTAMP:20260424T070458Z
URL:https://members.rgvhcc.org/events/details/eddie-s-safari-run-730
END:VEVENT

END:VCALENDAR
