BEGIN:VCALENDAR
VERSION:2.0
PRODID:-//ChamberMaster//Event Calendar 2.0//EN
METHOD:PUBLISH
X-PUBLISHED-TTL:P3D
REFRESH-INTERVAL:P3D
CALSCALE:GREGORIAN
BEGIN:VEVENT
DTSTART:20230825T140000Z
DTEND:20230825T203000Z
X-MICROSOFT-CDO-ALLDAYEVENT:FALSE
SUMMARY:Free Young Adult Health Summit Food Provided & ALL Attendees receive a $50 Stipend
DESCRIPTION:Calling all South Texas young adults! Come out to this FREE event on August 25 during our 6th Annual South Texas Adolescent Health Summit. Make new friends and hear from cool and inspiring speakers about contraception\, healthy relationships\, and more! And POV: you come to a health event\, enjoy delicious food\, and ALL attendees RECEIVE a $50 stipend! This August 25 event is ONLY open to young adults ages 17-24.
X-ALT-DESC;FMTTYPE=text/html:Calling all South Texas young adults! Come out to this FREE event on August 25 during our 6th Annual South Texas Adolescent Health Summit. Make new friends and hear from cool and inspiring speakers about contraception\, healthy relationships\, and more! And POV: you come to a health event\, enjoy delicious food\, and ALL attendees RECEIVE a $50 stipend! This August 25 event is ONLY open to young adults ages 17-24.
LOCATION:WHERE: McAllen Convention Center\, 700 Convention Center Blvd\, McAllen\, TX 78501
UID:e.3411.603
SEQUENCE:3
DTSTAMP:20260424T163717Z
URL:https://members.rgvhcc.org/events/details/free-young-adult-health-summit-food-provided-all-attendees-receive-a-50-stipend-603
END:VEVENT

END:VCALENDAR
