BEGIN:VCALENDAR
VERSION:2.0
PRODID:-//ChamberMaster//Event Calendar 2.0//EN
METHOD:PUBLISH
X-PUBLISHED-TTL:P3D
REFRESH-INTERVAL:P3D
CALSCALE:GREGORIAN
BEGIN:VEVENT
DTSTART:20250625T160000Z
DTEND:20250625T170000Z
X-MICROSOFT-CDO-ALLDAYEVENT:FALSE
SUMMARY:Frost Bank Small Talk Webinar
DESCRIPTION:Calling all small business owners   join Frost for an insightful webinar designed to help you understand the importance of healthy cash flow and optimize how money moves in and out of your business. The webinar will be hosted on Microsoft Teams on Wednesday\, June 25 from 11 am to 12 pm and will feature a presentation and Q&A with industry experts\, Richard Foster and Tatiana Salinas. The presentation will break down how to measure and manage cash flow and provide tips to keep your business financially healthy year-round. Don't miss the opportunity to learn how to keep your cash flow strong to help your business thrive. Registration is required. To register\, click here: https://qrco.de/bg0cNv
X-ALT-DESC;FMTTYPE=text/html:Calling all small business owners &ndash\; join Frost for an insightful webinar designed to help you understand the importance of healthy cash flow and optimize how money moves in and out of your business. The webinar will be hosted on Microsoft Teams on Wednesday\, June 25 from 11 am to 12 pm and will feature a presentation and Q&amp\;A with industry experts\, Richard Foster and Tatiana Salinas. The presentation will break down how to measure and manage cash flow and provide tips to keep your business financially healthy year-round. Don&rsquo\;t miss the opportunity to learn how to keep your cash flow strong to help your business thrive. Registration is required. To register\, click here: https://qrco.de/bg0cNv
LOCATION:Virtual
UID:e.3411.983
SEQUENCE:3
DTSTAMP:20260422T143559Z
URL:https://members.rgvhcc.org/events/details/frost-bank-small-talk-webinar-983
END:VEVENT

END:VCALENDAR
