BEGIN:VCALENDAR
VERSION:2.0
PRODID:-//ChamberMaster//Event Calendar 2.0//EN
METHOD:PUBLISH
X-PUBLISHED-TTL:P3D
REFRESH-INTERVAL:P3D
CALSCALE:GREGORIAN
BEGIN:VEVENT
DTSTART:20250815T190000Z
DTEND:20250815T210000Z
X-MICROSOFT-CDO-ALLDAYEVENT:FALSE
SUMMARY:Frost Bank Sweet Treats
DESCRIPTION:Take a break from the heat and grab a sweet treat at our McAllen South location. We'll be serving Marble Slab to everyone that stops by\, while supplies last. This event is free and open to the public so be sure to invite your family and friends. We hope to see you there!
X-ALT-DESC;FMTTYPE=text/html:Take a break from the heat and grab a sweet treat at our McAllen South location. We&#39\;ll be serving Marble Slab to everyone that stops by\, while supplies last. This event is free and open to the public so be sure to invite your family and friends. We hope to see you there!
LOCATION:510 E Ridge Rd\, McAllen\, TX 78503
UID:e.3411.1024
SEQUENCE:3
DTSTAMP:20260422T113218Z
URL:https://members.rgvhcc.org/events/details/frost-bank-sweet-treats-08-15-2025-1024
END:VEVENT

END:VCALENDAR
