BEGIN:VCALENDAR
VERSION:2.0
PRODID:-//ChamberMaster//Event Calendar 2.0//EN
METHOD:PUBLISH
X-PUBLISHED-TTL:P3D
REFRESH-INTERVAL:P3D
CALSCALE:GREGORIAN
BEGIN:VEVENT
DTSTART:20250812T190000Z
DTEND:20250812T210000Z
X-MICROSOFT-CDO-ALLDAYEVENT:FALSE
SUMMARY:Frost Bank Sweet Treats
DESCRIPTION:Take a break from the heat and grab a sweet treat at our McAllen North location. We'll be serving Marble Slab to everyone that stops by\, while supplies last. This event is free and open to the public so be sure to invite your family and friends. We hope to see you there!
X-ALT-DESC;FMTTYPE=text/html:Take a break from the heat and grab a sweet treat at our McAllen North location. We&#39\;ll be serving Marble Slab to everyone that stops by\, while supplies last. This event is free and open to the public so be sure to invite your family and friends. We hope to see you there!
LOCATION:1901 W. Nolana Ave.\, McAllen\, TX 78504
UID:e.3411.1023
SEQUENCE:3
DTSTAMP:20260422T113028Z
URL:https://members.rgvhcc.org/events/details/frost-bank-sweet-treats-1023
END:VEVENT

END:VCALENDAR
