BEGIN:VCALENDAR
VERSION:2.0
PRODID:-//ChamberMaster//Event Calendar 2.0//EN
METHOD:PUBLISH
X-PUBLISHED-TTL:P3D
REFRESH-INTERVAL:P3D
CALSCALE:GREGORIAN
BEGIN:VEVENT
DTSTART:20250625T180000Z
DTEND:20250625T190000Z
X-MICROSOFT-CDO-ALLDAYEVENT:FALSE
SUMMARY:Funding Growth and Innovation: Financial Strategies for Business Expansion
DESCRIPTION:It's challenging to secure funding for business expansion and innovation\, so come learn about financial strategies that can support your growth ambitions and help drive your business forward. We'll also explore how you can use life insurance to help:\n\n	Mitigate financial risks that your business is facing.\n	Recruit\, reward and retain the top talent you need.\n	Fund your business succession strategy Brought to you by the United States Hispanic Chamber of Commerce
X-ALT-DESC;FMTTYPE=text/html:It&rsquo\;s challenging to secure funding for business expansion and innovation\, so come learn about financial strategies that can support your growth ambitions and help drive your business forward. We&rsquo\;ll also explore how you can use life insurance to help:\n<ul>\n	<li>Mitigate financial risks that your business is facing.</li>\n	<li>Recruit\, reward and retain the top talent you need.</li>\n	<li>Fund your business succession strategy Brought to you by the United States Hispanic Chamber of Commerce</li>\n</ul>\n
LOCATION:https://ushcc.zoom.us/webinar/register/WN_gKVJJzeKSuOdvo_cLsBoSQ#/registration
UID:e.3411.995
SEQUENCE:3
DTSTAMP:20260422T162506Z
URL:https://members.rgvhcc.org/events/details/funding-growth-and-innovation-financial-strategies-for-business-expansion-995
END:VEVENT

END:VCALENDAR
