BEGIN:VCALENDAR
VERSION:2.0
PRODID:-//ChamberMaster//Event Calendar 2.0//EN
METHOD:PUBLISH
X-PUBLISHED-TTL:P3D
REFRESH-INTERVAL:P3D
CALSCALE:GREGORIAN
BEGIN:VEVENT
DTSTART:20250412T130000Z
DTEND:20250412T160000Z
X-MICROSOFT-CDO-ALLDAYEVENT:FALSE
SUMMARY:Give A Bark Color Splash 5K
DESCRIPTION:4th Annual Give A Bark 5K benefitting Palm Valley Animal Society.
X-ALT-DESC;FMTTYPE=text/html:4th Annual Give A Bark 5K benefitting Palm Valley Animal Society.
LOCATION:Firemen's Park 201 N. 1st St McAllen\, TX
UID:e.3411.929
SEQUENCE:3
DTSTAMP:20260422T175817Z
URL:https://members.rgvhcc.org/events/details/give-a-bark-color-splash-5k-929
END:VEVENT

END:VCALENDAR
