BEGIN:VCALENDAR
VERSION:2.0
PRODID:-//ChamberMaster//Event Calendar 2.0//EN
METHOD:PUBLISH
X-PUBLISHED-TTL:P3D
REFRESH-INTERVAL:P3D
CALSCALE:GREGORIAN
BEGIN:VEVENT
DTSTART:20240711T150000Z
DTEND:20240711T170000Z
X-MICROSOFT-CDO-ALLDAYEVENT:FALSE
SUMMARY:Ground Breaking - Food Bank RGV
DESCRIPTION:"We are excited to invite you to the ground breaking ceremony for the Food Bank RGV's new freezer\, cooler\, and operatins office. This significant expansion will greatly enhance our capacity to better serve the community"
X-ALT-DESC;FMTTYPE=text/html:&quot\;We are excited to invite you to the ground breaking ceremony for the Food Bank RGV&#39\;s new freezer\, cooler\, and operatins office. This significant expansion will greatly enhance our capacity to better serve the community&quot\;
LOCATION:Food Bank RGV
UID:e.3411.790
SEQUENCE:3
DTSTAMP:20260423T222712Z
URL:https://members.rgvhcc.org/events/details/ground-breaking-food-bank-rgv-790
END:VEVENT

END:VCALENDAR
