BEGIN:VCALENDAR
VERSION:2.0
PRODID:-//ChamberMaster//Event Calendar 2.0//EN
METHOD:PUBLISH
X-PUBLISHED-TTL:P3D
REFRESH-INTERVAL:P3D
CALSCALE:GREGORIAN
BEGIN:VEVENT
DTSTART:20251002T140000Z
DTEND:20251002T160000Z
X-MICROSOFT-CDO-ALLDAYEVENT:FALSE
SUMMARY:Groundbreaking - STC’s $7M Kinesiology Center (McAllen )
DESCRIPTION:This Thursday\, October 2nd at 9:00 a.m.\, South Texas College will break ground on a state-of-the-art\, 16\,715-square-foot Kinesiology Center at 3200 W. Pecan Blvd.\, Building Q\, McAllen on the north side of our Pecan Campus.\n\n\n\nThis $7 million investment will transform how we serve our students and community. The new facility will feature:\n\n	 Four modern classrooms\n	A computer lab\n	Multi-purpose room\n	Dedicated exercise\, dojo\, and spin rooms\n	Faculty offices and support service spaces\n\nThe project is set to be completed by June 2026\, marking the first full\, new construction project under President Dr. Ricardo Solis' leadership.\n\n\n\nThis dynamic new center will be home to our growing Kinesiology\, Fitness\, and Sports Education Programs\, while also serving our vibrant intramural sports community in flag football\, basketball\, soccer\, and volleyball. \n\n\n\nStudents\, faculty\, and staff will now have a dedicated\, world-class space for learning\, training\, and practicing. Your presence at this groundbreaking would be an honor as we celebrate this transformative project and the opportunities it will bring to the Rio Grande Valley.
X-ALT-DESC;FMTTYPE=text/html:<span style="font-family:arial\;"><span style="color: rgb(31\, 31\, 31)\; font-size: 14px\; font-variant-ligatures: no-contextual\; white-space-collapse: preserve\; background-color: rgb(240\, 244\, 249)\;">This&nbsp\;</span><b style="color: rgb(31\, 31\, 31)\; font-family: &quot\;Google Sans&quot\;\, Roboto\, Arial\, sans-serif\; font-size: 14px\; font-variant-ligatures: no-contextual\; white-space-collapse: preserve\; background-color: rgb(240\, 244\, 249)\;">Thursday\, October 2nd at 9:00 a.m.</b><span style="color: rgb(31\, 31\, 31)\; font-size: 14px\; font-variant-ligatures: no-contextual\; white-space-collapse: preserve\; background-color: rgb(240\, 244\, 249)\;">\, South Texas College will break ground on a&nbsp\;</span><b style="color: rgb(31\, 31\, 31)\; font-family: &quot\;Google Sans&quot\;\, Roboto\, Arial\, sans-serif\; font-size: 14px\; font-variant-ligatures: no-contextual\; white-space-collapse: preserve\; background-color: rgb(240\, 244\, 249)\;">state-of-the-art\, 16\,715-square-foot Kinesiology Center</b><span style="color: rgb(31\, 31\, 31)\; font-size: 14px\; font-variant-ligatures: no-contextual\; white-space-collapse: preserve\; background-color: rgb(240\, 244\, 249)\;">&nbsp\;at&nbsp\;</span><b style="color: rgb(31\, 31\, 31)\; font-family: &quot\;Google Sans&quot\;\, Roboto\, Arial\, sans-serif\; font-size: 14px\; font-variant-ligatures: no-contextual\; white-space-collapse: preserve\; background-color: rgb(240\, 244\, 249)\;">3200 W. Pecan Blvd.\, Building Q\, McAllen</b><span style="color: rgb(31\, 31\, 31)\; font-size: 14px\; font-variant-ligatures: no-contextual\; white-space-collapse: preserve\; background-color: rgb(240\, 244\, 249)\;">&nbsp\;on the north side of our Pecan Campus.</span><br style="color: rgb(31\, 31\, 31)\; font-family: &quot\;Google Sans&quot\;\, Roboto\, Arial\, sans-serif\; font-size: 14px\; font-variant-ligatures: no-contextual\; white-space-collapse: preserve\; background-color: rgb(240\, 244\, 249)\;" />\n<br style="color: rgb(31\, 31\, 31)\; font-family: &quot\;Google Sans&quot\;\, Roboto\, Arial\, sans-serif\; font-size: 14px\; font-variant-ligatures: no-contextual\; white-space-collapse: preserve\; background-color: rgb(240\, 244\, 249)\;" />\n<span style="color: rgb(31\, 31\, 31)\; font-size: 14px\; font-variant-ligatures: no-contextual\; white-space-collapse: preserve\; background-color: rgb(240\, 244\, 249)\;">This&nbsp\;</span><b style="color: rgb(31\, 31\, 31)\; font-family: &quot\;Google Sans&quot\;\, Roboto\, Arial\, sans-serif\; font-size: 14px\; font-variant-ligatures: no-contextual\; white-space-collapse: preserve\; background-color: rgb(240\, 244\, 249)\;">$7 million investment</b><span style="color: rgb(31\, 31\, 31)\; font-size: 14px\; font-variant-ligatures: no-contextual\; white-space-collapse: preserve\; background-color: rgb(240\, 244\, 249)\;">&nbsp\;will transform how we serve our students and community. The new facility will feature:</span></span>\n<ul style="color: rgb(31\, 31\, 31)\; font-family: &quot\;Google Sans&quot\;\, Roboto\, Arial\, sans-serif\; font-size: 14px\; font-variant-ligatures: no-contextual\; white-space-collapse: preserve\; background-color: rgb(240\, 244\, 249)\;">\n	<li><span style="font-family:arial\;">&#8203\;Four modern classrooms</span></li>\n	<li><span style="font-family:arial\;">A computer lab</span></li>\n	<li><span style="font-family:arial\;">Multi-purpose room</span></li>\n	<li><span style="font-family:arial\;">Dedicated exercise\, dojo\, and spin rooms</span></li>\n	<li><span style="font-family:arial\;">Faculty offices and support service spaces</span></li>\n</ul>\n<span style="font-family:arial\;"><span style="color: rgb(31\, 31\, 31)\; font-size: 14px\; font-variant-ligatures: no-contextual\; white-space-collapse: preserve\; background-color: rgb(240\, 244\, 249)\;">The project is set to be completed by June 2026\, marking the first full\, new construction project under President Dr. Ricardo Solis&rsquo\; leadership.</span><br style="color: rgb(31\, 31\, 31)\; font-family: &quot\;Google Sans&quot\;\, Roboto\, Arial\, sans-serif\; font-size: 14px\; font-variant-ligatures: no-contextual\; white-space-collapse: preserve\; background-color: rgb(240\, 244\, 249)\;" />\n<br style="color: rgb(31\, 31\, 31)\; font-family: &quot\;Google Sans&quot\;\, Roboto\, Arial\, sans-serif\; font-size: 14px\; font-variant-ligatures: no-contextual\; white-space-collapse: preserve\; background-color: rgb(240\, 244\, 249)\;" />\n<span style="color: rgb(31\, 31\, 31)\; font-size: 14px\; font-variant-ligatures: no-contextual\; white-space-collapse: preserve\; background-color: rgb(240\, 244\, 249)\;">This dynamic new center will be home to our growing&nbsp\;</span><b style="color: rgb(31\, 31\, 31)\; font-family: &quot\;Google Sans&quot\;\, Roboto\, Arial\, sans-serif\; font-size: 14px\; font-variant-ligatures: no-contextual\; white-space-collapse: preserve\; background-color: rgb(240\, 244\, 249)\;">Kinesiology\, Fitness\, and Sports Education Programs</b><span style="color: rgb(31\, 31\, 31)\; font-size: 14px\; font-variant-ligatures: no-contextual\; white-space-collapse: preserve\; background-color: rgb(240\, 244\, 249)\;">\, while also serving our vibrant intramural sports community in flag football\, basketball\, soccer\, and volleyball.&nbsp\;</span><br style="color: rgb(31\, 31\, 31)\; font-family: &quot\;Google Sans&quot\;\, Roboto\, Arial\, sans-serif\; font-size: 14px\; font-variant-ligatures: no-contextual\; white-space-collapse: preserve\; background-color: rgb(240\, 244\, 249)\;" />\n<br style="color: rgb(31\, 31\, 31)\; font-family: &quot\;Google Sans&quot\;\, Roboto\, Arial\, sans-serif\; font-size: 14px\; font-variant-ligatures: no-contextual\; white-space-collapse: preserve\; background-color: rgb(240\, 244\, 249)\;" />\n<span style="color: rgb(31\, 31\, 31)\; font-size: 14px\; font-variant-ligatures: no-contextual\; white-space-collapse: preserve\; background-color: rgb(240\, 244\, 249)\;">Students\, faculty\, and staff will now have a dedicated\, world-class space&nbsp\;for learning\, training\, and practicing. Your presence at this groundbreaking would be an honor as we celebrate this transformative project and the opportunities it will bring to the Rio Grande Valley.</span></span>
LOCATION:
UID:e.3411.1056
SEQUENCE:3
DTSTAMP:20260422T080311Z
URL:https://members.rgvhcc.org/events/details/groundbreaking-stc-s-7m-kinesiology-center-mcallen-1056
END:VEVENT

END:VCALENDAR
