BEGIN:VCALENDAR
VERSION:2.0
PRODID:-//ChamberMaster//Event Calendar 2.0//EN
METHOD:PUBLISH
X-PUBLISHED-TTL:P3D
REFRESH-INTERVAL:P3D
CALSCALE:GREGORIAN
BEGIN:VEVENT
DTSTART:20250719T130000Z
DTEND:20250720T030000Z
X-MICROSOFT-CDO-ALLDAYEVENT:FALSE
SUMMARY:Group Walk & Pilates
DESCRIPTION:Spaces are limited\, so don't wait to secure your spot! This is the perfect chance to refresh your mind and body while connecting with others in a friendly\, relaxed setting. For more information or to reserve your place\, contact Denise at studio@selfiesandmore.com or call (956) 207-8696.
X-ALT-DESC;FMTTYPE=text/html:Spaces are limited\, so don&rsquo\;t wait to secure your spot! This is the perfect chance to refresh your mind and body while connecting with others in a friendly\, relaxed setting. For more information or to reserve your place\, contact Denise at studio@selfiesandmore.com or call (956) 207-8696.
LOCATION:
UID:e.3411.1017
SEQUENCE:3
DTSTAMP:20260422T124953Z
URL:https://members.rgvhcc.org/events/details/group-walk-pilates-1017
END:VEVENT

END:VCALENDAR
