BEGIN:VCALENDAR
VERSION:2.0
PRODID:-//ChamberMaster//Event Calendar 2.0//EN
METHOD:PUBLISH
X-PUBLISHED-TTL:P3D
REFRESH-INTERVAL:P3D
CALSCALE:GREGORIAN
BEGIN:VEVENT
DTSTART:20240307T000000Z
DTEND:20240307T023000Z
X-MICROSOFT-CDO-ALLDAYEVENT:FALSE
SUMMARY:Hats Off to Women of Distinction Dinner & Expo 2024
DESCRIPTION:Join us for a gathering of accomplished businesswomen as we commemorate their successes. This event offers a unique opportunity to engage in networking\, explore curated shopping experiences\, and gain valuable insights for business creation and expansion. Additionally\, attendees will have the chance to stay on the forefront of fashion trends by showcasing the latest in Kentucky Derby Hat styles. Don't miss this unparalleled occasion to celebrate achievements\, foster connections\, and empower your business journey\n\n\n\n- KENTUCKY DERBY HAT CONTEST -
X-ALT-DESC;FMTTYPE=text/html:<div class="kvgmc6g5 cxmmr5t8 oygrvhab hcukyx3x c1et5uql" style="overflow-wrap: break-word\; margin: 0px\; font-family: system-ui\, -apple-system\, &quot\;system-ui&quot\;\, &quot\;.SFNSText-Regular&quot\;\, sans-serif\; color: rgb(5\, 5\, 5)\; font-size: 15px\;">\n<div>\n<p>Join us for a&nbsp\;gathering of accomplished businesswomen as we commemorate their successes. This event offers a unique opportunity to engage in networking\, explore curated shopping experiences\, and gain valuable insights for business creation and expansion. Additionally\, attendees will have the chance to stay on the forefront of fashion trends by showcasing the latest in Kentucky Derby Hat styles. Don't miss this unparalleled occasion to celebrate achievements\, foster connections\, and empower your business journey<br>\n<br>\n- KENTUCKY DERBY HAT CONTEST -</p>\n</div>\n</div>\n\n<div class="cxmmr5t8 oygrvhab hcukyx3x c1et5uql o9v6fnle" style="overflow-wrap: break-word\; margin: 0.5em 0px 0px\; font-family: system-ui\, -apple-system\, &quot\;system-ui&quot\;\, &quot\;.SFNSText-Regular&quot\;\, sans-serif\; color: rgb(5\, 5\, 5)\; font-size: 15px\;">&nbsp\;</div>\n
LOCATION:Mission Event Center
UID:e.3411.641
SEQUENCE:3
DTSTAMP:20260424T070916Z
URL:https://members.rgvhcc.org/events/details/hats-off-to-women-of-distinction-dinner-expo-2024-641
END:VEVENT

END:VCALENDAR
