BEGIN:VCALENDAR
VERSION:2.0
PRODID:-//ChamberMaster//Event Calendar 2.0//EN
METHOD:PUBLISH
X-PUBLISHED-TTL:P3D
REFRESH-INTERVAL:P3D
CALSCALE:GREGORIAN
BEGIN:VEVENT
DTSTART:20260515T210000Z
DTEND:20260522T170000Z
X-MICROSOFT-CDO-ALLDAYEVENT:FALSE
SUMMARY:Help Us Step Out Stroke: Enter the STHS Steps for Stroke 50\,000 Step Challenge
DESCRIPTION:The South Texas Health System  Neurosciences & Stroke Institute invites you to take part in our Steps for Stroke Challenge.\n\n \n\nSimply walk\, run or even dance your way to a minimum of 10\,000 steps per day or 50\,000 steps for the week. Log your steps on our official challenge website and see where you rank!\n\n \n\nKick things off on May 15 at the official Steps for Stroke Pep Rally\, where you can pick up your packet and start upping your steps with fun activities!\n\n \n\nREGISTRATION:\n\nEarly-Bird Registration (ends May 1): $15\n\nLate Registration (after May 1):* $20\n\nRegistration deadline: May 15\n\nRegistration fee includes T-shirt.\n\n*T-shirt not guaranteed with late registration.\n\n \n\nAll proceeds benefit local charities.\n\n \n\nRegister online at sthsactive.com.\n\n \n\nPEP RALLY & PACKET PICK UP:\n\nFriday\, May 15\, 4:30   7:30 p.m.\n\nSouth Texas Health System McAllen\n\n(Courtyard Area)\n\n301 W. Expressway 83\, McAllen\, TX 78503\n\n \n\nHope you can help us raise awareness for stroke prevention in our community!
X-ALT-DESC;FMTTYPE=text/html:<span style="font-family:calibri\,sans-serif\;"><span style="font-size:11pt\;">The&nbsp\;<strong>South Texas Health System&reg\; Neurosciences &amp\; Stroke Institute</strong>&nbsp\;invites you to take part in our Steps for Stroke Challenge.</span></span><br />\n&nbsp\;<br />\n<span style="font-family:calibri\,sans-serif\;"><span style="font-size:11pt\;">Simply walk\, run or even dance your way to a minimum of 10\,000 steps per day or 50\,000 steps for the week. Log your steps on our official challenge website and see where you rank!</span></span><br />\n&nbsp\;<br />\n<span style="font-family:calibri\,sans-serif\;"><span style="font-size:11pt\;">Kick things off on May 15 at the official Steps for Stroke Pep Rally\, where you can pick up your packet and start upping your steps with fun activities!</span></span><br />\n&nbsp\;<br />\n<strong><span style="font-family:calibri\,sans-serif\;"><span style="font-size:11pt\;">REGISTRATION:</span></span></strong><br />\n<span style="font-family:calibri\,sans-serif\;"><span style="font-size:11pt\;">Early-Bird Registration (ends May 1): $15<br />\nLate Registration (after May 1):* $20</span></span><br />\n<span style="font-family:calibri\,sans-serif\;"><span style="font-size:11pt\;">Registration deadline: May 15</span></span><br />\n<em><span style="font-family:calibri\,sans-serif\;"><span style="font-size:11pt\;">Registration fee includes T-shirt.</span></span></em><br />\n<em><span style="font-family:calibri\,sans-serif\;"><span style="font-size:11pt\;">*T-shirt not guaranteed with late registration.</span></span></em><br />\n&nbsp\;<br />\n<em><span style="font-family:calibri\,sans-serif\;"><span style="font-size:11pt\;">All proceeds benefit local charities.</span></span></em><br />\n&nbsp\;<br />\n<span style="background:maroon\;"><span style="color:white\;"><span style="font-family:calibri\,sans-serif\;"><span style="font-size:14pt\;">Register online at&nbsp\;<strong><a data-saferedirecturl="https://www.google.com/url?q=https://sthsactive.com/&amp\;source=gmail&amp\;ust=1776715352574000&amp\;usg=AOvVaw1ijR5r4ijZ8s4l_FUyhS9J" href="https://sthsactive.com/" style="color:rgb(17\, 85\, 204)\;" target="_blank"><span style="color:white\;">sthsactive.com</span></a>.</strong></span></span></span></span><br />\n&nbsp\;<br />\n<strong><span style="font-family:calibri\,sans-serif\;"><span style="font-size:11pt\;">PEP RALLY &amp\; PACKET PICK UP:</span></span></strong><br />\n<strong><span style="font-family:calibri\,sans-serif\;"><span style="font-size:11pt\;">Friday\, May 15\, 4:30 &ndash\; 7:30 p.m.</span></span></strong><br />\n<span style="font-family:calibri\,sans-serif\;"><span style="font-size:11pt\;">South Texas Health System McAllen<br />\n(Courtyard Area)<br />\n301 W. Expressway 83\, McAllen\, TX 78503</span></span><br />\n&nbsp\;<br />\n<span style="font-family:calibri\,sans-serif\;"><span style="font-size:11pt\;">Hope you can help us raise awareness for stroke prevention in our community!</span></span>
LOCATION:
UID:e.3411.1173
SEQUENCE:3
DTSTAMP:20260419T235925Z
URL:https://members.rgvhcc.org/events/details/help-us-step-out-stroke-enter-the-sths-steps-for-stroke-50-000-step-challenge-1173
END:VEVENT

END:VCALENDAR
