BEGIN:VCALENDAR
VERSION:2.0
PRODID:-//ChamberMaster//Event Calendar 2.0//EN
METHOD:PUBLISH
X-PUBLISHED-TTL:P3D
REFRESH-INTERVAL:P3D
CALSCALE:GREGORIAN
BEGIN:VEVENT
DTSTART:20250222T133000Z
DTEND:20250222T230000Z
X-MICROSOFT-CDO-ALLDAYEVENT:FALSE
SUMMARY:Heroes with Heart 5K Run
DESCRIPTION:South Texas Health System Heart presents Heroes with a Heart 5K Run/Walk on February 22\, 2025 to promote heart healthy behavior.\n\n* Custom Finisher Medal\n\n* Age Group Awards\n\n* Event Shirt\n\n* Family Filled Event
X-ALT-DESC;FMTTYPE=text/html:<div class="xdj266r x11i5rnm xat24cr x1mh8g0r x1vvkbs" style="margin: 0px\; overflow-wrap: break-word\; font-family: &quot\;Segoe UI Historic&quot\;\, &quot\;Segoe UI&quot\;\, Helvetica\, Arial\, sans-serif\; color: rgb(8\, 8\, 9)\; font-size: 15px\; background-color: rgb(255\, 255\, 255)\;">South Texas Health System Heart presents Heroes with a Heart 5K Run/Walk on February 22\, 2025 to promote heart healthy behavior.</div>\n\n<div class="x11i5rnm xat24cr x1mh8g0r x1vvkbs xtlvy1s" style="margin: 0.5em 0px 0px\; overflow-wrap: break-word\; font-family: &quot\;Segoe UI Historic&quot\;\, &quot\;Segoe UI&quot\;\, Helvetica\, Arial\, sans-serif\; color: rgb(8\, 8\, 9)\; font-size: 15px\; background-color: rgb(255\, 255\, 255)\;">* Custom Finisher Medal<br class="html-br" />\n* Age Group Awards<br class="html-br" />\n* Event Shirt<br class="html-br" />\n* Family Filled Event</div>\n
LOCATION:
UID:e.3411.906
SEQUENCE:3
DTSTAMP:20260422T231154Z
URL:https://members.rgvhcc.org/events/details/heroes-with-heart-5k-run-906
END:VEVENT

END:VCALENDAR
