BEGIN:VCALENDAR
VERSION:2.0
PRODID:-//ChamberMaster//Event Calendar 2.0//EN
METHOD:PUBLISH
X-PUBLISHED-TTL:P3D
REFRESH-INTERVAL:P3D
CALSCALE:GREGORIAN
BEGIN:VEVENT
DTSTART:20250709T223000Z
DTEND:20250710T000000Z
X-MICROSOFT-CDO-ALLDAYEVENT:FALSE
SUMMARY:Hey What's Going On RGV Business Mixer
DESCRIPTION:Join us for a fun and informative event where you'll discover exciting opportunities to highlight your business\, no matter the size! This event is FREE to attend and designed to help local entrepreneurs gain more exposure and connect with a wider audience.\n\nCome explore vendor booths\, take selfies in our interactive space\, and network with fellow business owners. Bring a friend or two and enjoy refreshments and snacks while you learn how to make your business shine!\n\nLocation: Selfies and More\, McAllen\, TX\n\nFor more info: (956) 207-8696 or studio@selfiesandmore.com\n\nDon't miss this chance to grow your visibility and make new connections!
X-ALT-DESC;FMTTYPE=text/html:<p data-end="335" data-start="71">Join us for a fun and informative event where you&rsquo\;ll discover <strong data-end="186" data-start="133">exciting opportunities to highlight your business</strong>\, no matter the size! This event is <strong data-end="240" data-start="222">FREE to attend</strong> and designed to help local entrepreneurs gain more exposure and connect with a wider audience.</p>\n\n<p data-end="555" data-start="337">Come explore vendor booths\, take selfies in our interactive space\, and network with fellow business owners. Bring a friend or two and enjoy <strong data-end="506" data-start="479">refreshments and snacks</strong> while you learn how to make your business shine!</p>\n\n<p data-end="671" data-start="557"><strong data-end="573" data-start="560">Location:</strong> Selfies and More\, McAllen\, TX<br data-end="606" data-start="603" />\nFor more info: (956) 207-8696 or <strong data-end="671" data-start="642"><a class="cursor-pointer" data-end="669" data-start="644" rel="noopener">studio@selfiesandmore.com</a></strong></p>\n\n<p data-end="745" data-is-last-node="" data-is-only-node="" data-start="673">Don&#39\;t miss this chance to grow your visibility and make new connections!</p>\n
LOCATION:
UID:e.3411.1014
SEQUENCE:3
DTSTAMP:20260422T125419Z
URL:https://members.rgvhcc.org/events/details/hey-what-s-going-on-rgv-business-mixer-1014
END:VEVENT

END:VCALENDAR
