BEGIN:VCALENDAR
VERSION:2.0
PRODID:-//ChamberMaster//Event Calendar 2.0//EN
METHOD:PUBLISH
X-PUBLISHED-TTL:P3D
REFRESH-INTERVAL:P3D
CALSCALE:GREGORIAN
BEGIN:VEVENT
DTSTART;VALUE=DATE:20241128
DTEND;VALUE=DATE:20241130
TRANSP:TRANSPARENT
X-MICROSOFT-CDO-ALLDAYEVENT:TRUE
SUMMARY:Holiday - Office Closed
DESCRIPTION:Thanksgiving Holiday
X-ALT-DESC;FMTTYPE=text/html:Thanksgiving Holiday
LOCATION:
UID:e.3411.863
SEQUENCE:3
DTSTAMP:20260423T084953Z
URL:https://members.rgvhcc.org/events/details/holiday-office-closed-863
END:VEVENT

END:VCALENDAR
