BEGIN:VCALENDAR
VERSION:2.0
PRODID:-//ChamberMaster//Event Calendar 2.0//EN
METHOD:PUBLISH
X-PUBLISHED-TTL:P3D
REFRESH-INTERVAL:P3D
CALSCALE:GREGORIAN
BEGIN:VEVENT
DTSTART:20230823T150000Z
DTEND:20230823T160000Z
X-MICROSOFT-CDO-ALLDAYEVENT:FALSE
SUMMARY:How Different Generations Use Social Media
DESCRIPTION:Who's your target market? For your social media marketing efforts to be successful\, you've got to have some details about your customer demographics! For example\, who are your target customers\, and what are they looking for? Session highlights: -Different generations expect different things from your business when they follow you. -The reasons consumers unfollow brands vary from generation to generation. -One size does not fit all when it comes to what you post on social media. This webinar is presented by Patty Rojas with Monarch International Design. This webinar is hosted by the UTRGV SBDC and the BBVA Foundation with promotional support from participating resource partners\, including the Texas South-West SBDC Network\, Brownsville Chamber of Commerce\; Consulate of Mexico in McAllen\; Edinburg Chamber of Commerce\; Greater Alton Chamber of Commerce\; Greater Pharr Chamber of Commerce\; Greater Mission Chamber of Commerce\; Harlingen Economic Development Corporation\; Palmview Chamber of Commerce\; Rio Grande City Economic Development Corporation\; Rio Grande City Greater Chamber of Commerce\; Rio Grande City Public Library\; Rio Grande Valley Hispanic Chamber of Commerce\; San Benito Chamber of Commerce\; South Padre Island Chamber of Commerce\; Starr County Industrial Foundation\; Weslaco Area Chamber of Commerce & Visitors Center.
X-ALT-DESC;FMTTYPE=text/html:<span style="color: rgb(35\, 35\, 51)\; font-family: &quot\;Helvetica Neue&quot\;\, Helvetica\, Arial\, sans-serif\; font-size: 14px\; white-space-collapse: preserve\; background-color: rgb(255\, 255\, 255)\;">Who&#39\;s your target market? For your social media marketing efforts to be successful\, you&#39\;ve got to have some details about your customer demographics! For example\, who are your target customers\, and what are they looking for? Session highlights: -Different generations expect different things from your business when they follow you. -The reasons consumers unfollow brands vary from generation to generation. -One size does not fit all when it comes to what you post on social media. This webinar is presented by Patty Rojas with Monarch International Design. This webinar is hosted by the UTRGV SBDC and the BBVA Foundation with promotional support from participating resource partners\, including the Texas South-West SBDC Network\, Brownsville Chamber of Commerce\; Consulate of Mexico in McAllen\; Edinburg Chamber of Commerce\; Greater Alton Chamber of Commerce\; Greater Pharr Chamber of Commerce\; Greater Mission Chamber of Commerce\; Harlingen Economic Development Corporation\; Palmview Chamber of Commerce\; Rio Grande City Economic Development Corporation\; Rio Grande City Greater Chamber of Commerce\; Rio Grande City Public Library\; Rio Grande Valley Hispanic Chamber of Commerce\; San Benito Chamber of Commerce\; South Padre Island Chamber of Commerce\; Starr County Industrial Foundation\; Weslaco Area Chamber of Commerce &amp\; Visitors Center.</span>
LOCATION:
UID:e.3411.607
SEQUENCE:3
DTSTAMP:20260424T163135Z
URL:https://members.rgvhcc.org/events/details/how-different-generations-use-social-media-607
END:VEVENT

END:VCALENDAR
