BEGIN:VCALENDAR
VERSION:2.0
PRODID:-//ChamberMaster//Event Calendar 2.0//EN
METHOD:PUBLISH
X-PUBLISHED-TTL:P3D
REFRESH-INTERVAL:P3D
CALSCALE:GREGORIAN
BEGIN:VEVENT
DTSTART:20250912T170000Z
DTEND:20250912T180000Z
X-MICROSOFT-CDO-ALLDAYEVENT:FALSE
SUMMARY:How to Avoid Scams - With Chase
DESCRIPTION:You're invited to join us for an important Fraud and Scams Awareness Workshop scheduled tomorrow Friday! Fraud and Scams are on the rise\, and knowing how to protect yourself is more important than ever! In this session you will learn:\n\n	How to recognize common scams (including those targeting older adults)\n	How staying organized can help keep your information safe\n	Steps to take if you or a loved one becomes victims of fraud or identity theft
X-ALT-DESC;FMTTYPE=text/html:<span style="font-size:12px\;"><span style="font-family:arial\;">You&rsquo\;re invited to join us for an important Fraud and Scams Awareness Workshop scheduled tomorrow Friday! Fraud and Scams are on the rise\, and knowing how to protect yourself is more important than ever! In this session you will learn:</span></span>\n<ul>\n	<li style="font-size:11pt\;font-family:Calibri\, sans-serif\;"><span style="font-size:12px\;"><span style="font-family:arial\;">How to recognize common scams (including those targeting older adults)</span></span></li>\n	<li style="font-size:11pt\;font-family:Calibri\, sans-serif\;"><span style="font-size:12px\;"><span style="font-family:arial\;">How staying organized can help keep your information safe</span></span></li>\n	<li style="font-size:11pt\;font-family:Calibri\, sans-serif\;"><span style="font-size:12px\;"><span style="font-family:arial\;">Steps to take if you or a loved one becomes victims of fraud or identity theft</span></span></li>\n</ul>\n
LOCATION:
UID:e.3411.1050
SEQUENCE:3
DTSTAMP:20260422T093637Z
URL:https://members.rgvhcc.org/events/details/how-to-avoid-scams-with-chase-1050
END:VEVENT

END:VCALENDAR
